BEGIN:VCALENDAR
VERSION:2.0
PRODID:-//NAACP Denver - ECPv6.15.20//NONSGML v1.0//EN
CALSCALE:GREGORIAN
METHOD:PUBLISH
X-WR-CALNAME:NAACP Denver
X-ORIGINAL-URL:https://naacpdenver.org
X-WR-CALDESC:Events for NAACP Denver
REFRESH-INTERVAL;VALUE=DURATION:PT1H
X-Robots-Tag:noindex
X-PUBLISHED-TTL:PT1H
BEGIN:VTIMEZONE
TZID:UTC
BEGIN:STANDARD
TZOFFSETFROM:+0000
TZOFFSETTO:+0000
TZNAME:UTC
DTSTART:20250101T000000
END:STANDARD
END:VTIMEZONE
BEGIN:VEVENT
DTSTART;TZID=UTC:20260112T170000
DTEND;TZID=UTC:20260112T180000
DTSTAMP:20260419T155057
CREATED:20210614T032703Z
LAST-MODIFIED:20240206T214158Z
UID:3967-1768237200-1768240800@naacpdenver.org
SUMMARY:Education Committee
DESCRIPTION:2nd Monday of each month \nhttps://us02web.zoom.us/j/86038377903 \n 
URL:https://naacpdenver.org/event/education-committee-2026-01-12/
END:VEVENT
END:VCALENDAR