BEGIN:VCALENDAR
VERSION:2.0
PRODID:-//NAACP Denver - ECPv6.15.20//NONSGML v1.0//EN
CALSCALE:GREGORIAN
METHOD:PUBLISH
X-WR-CALNAME:NAACP Denver
X-ORIGINAL-URL:https://naacpdenver.org
X-WR-CALDESC:Events for NAACP Denver
REFRESH-INTERVAL;VALUE=DURATION:PT1H
X-Robots-Tag:noindex
X-PUBLISHED-TTL:PT1H
BEGIN:VTIMEZONE
TZID:America/Chicago
BEGIN:DAYLIGHT
TZOFFSETFROM:-0600
TZOFFSETTO:-0500
TZNAME:CDT
DTSTART:20200308T080000
END:DAYLIGHT
BEGIN:STANDARD
TZOFFSETFROM:-0500
TZOFFSETTO:-0600
TZNAME:CST
DTSTART:20201101T070000
END:STANDARD
BEGIN:DAYLIGHT
TZOFFSETFROM:-0600
TZOFFSETTO:-0500
TZNAME:CDT
DTSTART:20210314T080000
END:DAYLIGHT
BEGIN:STANDARD
TZOFFSETFROM:-0500
TZOFFSETTO:-0600
TZNAME:CST
DTSTART:20211107T070000
END:STANDARD
BEGIN:DAYLIGHT
TZOFFSETFROM:-0600
TZOFFSETTO:-0500
TZNAME:CDT
DTSTART:20220313T080000
END:DAYLIGHT
BEGIN:STANDARD
TZOFFSETFROM:-0500
TZOFFSETTO:-0600
TZNAME:CST
DTSTART:20221106T070000
END:STANDARD
END:VTIMEZONE
BEGIN:VTIMEZONE
TZID:UTC
BEGIN:STANDARD
TZOFFSETFROM:+0000
TZOFFSETTO:+0000
TZNAME:UTC
DTSTART:20200101T000000
END:STANDARD
END:VTIMEZONE
BEGIN:VEVENT
DTSTART;TZID=America/Chicago:20211030T150000
DTEND;TZID=America/Chicago:20211030T180000
DTSTAMP:20260420T074512
CREATED:20211026T043230Z
LAST-MODIFIED:20211026T043230Z
UID:3139-1635606000-1635616800@naacpdenver.org
SUMMARY:Fall Festival
DESCRIPTION:
URL:https://naacpdenver.org/event/fall-festival/
LOCATION:Cross Purpose\, 3050 Richard Allen Court\, Denver\, CO\, 80205\, United States
END:VEVENT
BEGIN:VEVENT
DTSTART;TZID=UTC:20211016T110000
DTEND;TZID=UTC:20211016T123000
DTSTAMP:20260420T074512
CREATED:20211015T180410Z
LAST-MODIFIED:20211015T181204Z
UID:3068-1634382000-1634387400@naacpdenver.org
SUMMARY:School Board Forum
DESCRIPTION:Register Here today and attend live in person!!\nhttps://www.eventbrite.com/e/denver-public-school-candidate-board-forum-tickets-181406069437 \n 
URL:https://naacpdenver.org/event/school-board-forum/
LOCATION:New Hope Baptist Church\, 3791 Colorado Blvd\, Denver\, CO\, 80207\, United States
END:VEVENT
BEGIN:VEVENT
DTSTART;TZID=UTC:20210916T170000
DTEND;TZID=UTC:20210916T200000
DTSTAMP:20260420T074512
CREATED:20210916T001356Z
LAST-MODIFIED:20210916T001356Z
UID:3011-1631811600-1631822400@naacpdenver.org
SUMMARY:Tequila Thursday!!
DESCRIPTION:
URL:https://naacpdenver.org/event/tequila-thursday/
LOCATION:Agave Shore\, 2736 Welton St.\, Denver\, CO\, 80205\, United States
END:VEVENT
BEGIN:VEVENT
DTSTART;TZID=UTC:20210728T180000
DTEND;TZID=UTC:20210728T200000
DTSTAMP:20260420T074512
CREATED:20210719T200340Z
LAST-MODIFIED:20210719T200340Z
UID:2981-1627495200-1627502400@naacpdenver.org
SUMMARY:Power & Politics
DESCRIPTION:
URL:https://naacpdenver.org/event/power-politics/
END:VEVENT
BEGIN:VEVENT
DTSTART;TZID=UTC:20210721T180000
DTEND;TZID=UTC:20210721T190000
DTSTAMP:20260420T074512
CREATED:20210719T200055Z
LAST-MODIFIED:20210719T200121Z
UID:2977-1626890400-1626894000@naacpdenver.org
SUMMARY:College with Confidence
DESCRIPTION:Prepare for College with Confidence! Join us for this financial aid workshop targeted to middle school and high school students. Parents are encouraged to attend as well!! Please RSVP.
URL:https://naacpdenver.org/event/college-with-confidence/
END:VEVENT
BEGIN:VEVENT
DTSTART;VALUE=DATE:20210719
DTEND;VALUE=DATE:20210724
DTSTAMP:20260420T074512
CREATED:20210719T195354Z
LAST-MODIFIED:20210719T195354Z
UID:2973-1626652800-1627084799@naacpdenver.org
SUMMARY:Reading Boot Camp!!
DESCRIPTION:Join us live in-person or online\, for this FUN learning experience!
URL:https://naacpdenver.org/event/reading-boot-camp/
LOCATION:The Denver Broncos Boys & Girls Club\, 4397 Crown Blvd\, Denver\, CO\, 80239\, United States
END:VEVENT
BEGIN:VEVENT
DTSTART;TZID=UTC:20210712T170000
DTEND;TZID=UTC:20210712T180000
DTSTAMP:20260420T074512
CREATED:20210614T032703Z
LAST-MODIFIED:20240206T214108Z
UID:2932-1626109200-1626112800@naacpdenver.org
SUMMARY:Education Committee
DESCRIPTION:2nd Monday of each month \nhttps://us02web.zoom.us/j/86038377903 \n 
URL:https://naacpdenver.org/event/education-committee/
END:VEVENT
BEGIN:VEVENT
DTSTART;TZID=UTC:20210710T110000
DTEND;TZID=UTC:20210710T123000
DTSTAMP:20260420T074512
CREATED:20210614T030759Z
LAST-MODIFIED:20210614T030759Z
UID:2857-1625914800-1625920200@naacpdenver.org
SUMMARY:Monthly Community Meeting
DESCRIPTION:NAACP Denver Branch hosts monthly meetings open to the public.  These meetings will address topics that affect communities of color in the City of Denver\, the State of Colorado and the Nation. \nTopic: Monthly Community Meeting\nTime: This is a recurring meeting Meet anytime \nJoin Zoom Meeting\nhttps://us02web.zoom.us/j/87864344222 \nMeeting ID: 878 6434 4222\nOne tap mobile\n+13462487799\,\,87864344222# US (Houston)\n+16699009128\,\,87864344222# US (San Jose) \nDial by your location\n+1 346 248 7799 US (Houston)\n+1 669 900 9128 US (San Jose)\n+1 253 215 8782 US (Tacoma)\n+1 312 626 6799 US (Chicago)\n+1 646 558 8656 US (New York)\n+1 301 715 8592 US (Washington DC)\nMeeting ID: 878 6434 4222\nFind your local number: https://us02web.zoom.us/u/kdKbmJV2D \n 
URL:https://naacpdenver.org/event/monthly-community-meeting/
END:VEVENT
BEGIN:VEVENT
DTSTART;TZID=UTC:20210710T110000
DTEND;TZID=UTC:20210710T123000
DTSTAMP:20260420T074512
CREATED:20210324T170056Z
LAST-MODIFIED:20210512T184937Z
UID:2520-1625914800-1625920200@naacpdenver.org
SUMMARY:NAACP Community Meeting
DESCRIPTION:Monthly membership meeting for all members and those who would like to join.
URL:https://naacpdenver.org/event/naacp-community-meeting-4/
LOCATION:New Hope Baptist Church\, 3701 Colorado Blvd\, Denver\, CO\, 80205\, United States
ATTACH;FMTTYPE=image/png:https://naacpdenver.org/wp-content/uploads/2021/03/naacp_logo.png
END:VEVENT
BEGIN:VEVENT
DTSTART;TZID=UTC:20210624T190000
DTEND;TZID=UTC:20210624T200000
DTSTAMP:20260420T074512
CREATED:20210614T025028Z
LAST-MODIFIED:20210614T031051Z
UID:2855-1624561200-1624564800@naacpdenver.org
SUMMARY:Monthly Membership Meeting
DESCRIPTION:The Monthly Membership Meeting for the Denver Branch of the NAACP will take place on the 4th Thursday of each month via zoom (Holidays Excluded) \nTopic: Monthly Membership Meeting\nTime: This is a recurring meeting Meet anytime \nJoin Zoom Meeting\nhttps://us02web.zoom.us/j/89561118750 \nMeeting ID: 895 6111 8750\nOne tap mobile\n+12532158782\,\,89561118750# US (Tacoma)\n+13462487799\,\,89561118750# US (Houston) \nDial by your location\n+1 253 215 8782 US (Tacoma)\n+1 346 248 7799 US (Houston)\n+1 669 900 9128 US (San Jose)\n+1 301 715 8592 US (Washington DC)\n+1 312 626 6799 US (Chicago)\n+1 646 558 8656 US (New York)\nMeeting ID: 895 6111 8750\nFind your local number: https://us02web.zoom.us/u/kgDr1yGWt \n 
URL:https://naacpdenver.org/event/monthly-membership-meeting/
END:VEVENT
BEGIN:VEVENT
DTSTART;TZID=UTC:20210612T080000
DTEND;TZID=UTC:20210612T170000
DTSTAMP:20260420T074512
CREATED:20210324T165953Z
LAST-MODIFIED:20210512T185002Z
UID:2518-1623484800-1623517200@naacpdenver.org
SUMMARY:NAACP Community Meeting
DESCRIPTION:Monthly membership meeting for all members and those who would like to join.
URL:https://naacpdenver.org/event/naacp-community-meeting-3/
LOCATION:New Hope Baptist Church\, 3701 Colorado Blvd\, Denver\, CO\, 80205\, United States
ATTACH;FMTTYPE=image/png:https://naacpdenver.org/wp-content/uploads/2021/03/naacp_logo.png
END:VEVENT
BEGIN:VEVENT
DTSTART;TZID=UTC:20210609T110000
DTEND;TZID=UTC:20210609T130000
DTSTAMP:20260420T074512
CREATED:20210317T163657Z
LAST-MODIFIED:20210512T185034Z
UID:2123-1623236400-1623243600@naacpdenver.org
SUMMARY:Denver NAACP Monthly Community Meeting - Power & Politics
DESCRIPTION:Power & Politics\nBuilding Power Through Community Organizing\nGuest Speaker: Jorge Montiel (Community Lead Organizer\, COT IAF) \nLocation: New Hope Baptist Church – 3701 Colorado Blvd\, Denver\, CO 80205 \nAs a sponsoring member of the Colorado Organizing Team of the Industrial Areas Foundation (IAF)\, come and learn how the NAACP gains power with other community organizations to effect change in our communities. \n 
URL:https://naacpdenver.org/event/denver-naacp-monthly-community-meeting-power-politics/
LOCATION:New Hope Baptist Church\, 3701 Colorado Blvd\, Denver\, CO\, 80205\, United States
ATTACH;FMTTYPE=image/png:https://naacpdenver.org/wp-content/uploads/2021/03/event.png
END:VEVENT
BEGIN:VEVENT
DTSTART;TZID=UTC:20210508T110000
DTEND;TZID=UTC:20210508T123000
DTSTAMP:20260420T074512
CREATED:20210324T165818Z
LAST-MODIFIED:20210324T165818Z
UID:2514-1620471600-1620477000@naacpdenver.org
SUMMARY:NAACP Community Meeting
DESCRIPTION:Monthly membership meeting for all members and those who would like to join.
URL:https://naacpdenver.org/event/naacp-community-meeting-2/
LOCATION:New Hope Baptist Church\, 3701 Colorado Blvd\, Denver\, CO\, 80205\, United States
ATTACH;FMTTYPE=image/png:https://naacpdenver.org/wp-content/uploads/2021/03/naacp_logo.png
END:VEVENT
BEGIN:VEVENT
DTSTART;TZID=UTC:20210424T120000
DTEND;TZID=UTC:20210424T130000
DTSTAMP:20260420T074512
CREATED:20210318T234630Z
LAST-MODIFIED:20210604T203829Z
UID:2331-1619265600-1619269200@naacpdenver.org
SUMMARY:HBCU Tail Gate Event
DESCRIPTION:HBCU Tailgate Event\n\nDate: April 24\, 2021 (12pm to 1pm) \n\n\nA Virtual Event for High School Students
URL:https://naacpdenver.org/event/hbcu-tail-gate-event/
ATTACH;FMTTYPE=image/jpeg:https://naacpdenver.org/wp-content/uploads/2021/03/hbcu.jpg
END:VEVENT
END:VCALENDAR