BEGIN:VCALENDAR
VERSION:2.0
PRODID:-//NAACP Denver - ECPv6.15.20//NONSGML v1.0//EN
CALSCALE:GREGORIAN
METHOD:PUBLISH
X-WR-CALNAME:NAACP Denver
X-ORIGINAL-URL:https://naacpdenver.org
X-WR-CALDESC:Events for NAACP Denver
REFRESH-INTERVAL;VALUE=DURATION:PT1H
X-Robots-Tag:noindex
X-PUBLISHED-TTL:PT1H
BEGIN:VTIMEZONE
TZID:UTC
BEGIN:STANDARD
TZOFFSETFROM:+0000
TZOFFSETTO:+0000
TZNAME:UTC
DTSTART:20200101T000000
END:STANDARD
END:VTIMEZONE
BEGIN:VEVENT
DTSTART;TZID=UTC:20210612T080000
DTEND;TZID=UTC:20210612T170000
DTSTAMP:20260420T074527
CREATED:20210324T165953Z
LAST-MODIFIED:20210512T185002Z
UID:2518-1623484800-1623517200@naacpdenver.org
SUMMARY:NAACP Community Meeting
DESCRIPTION:Monthly membership meeting for all members and those who would like to join.
URL:https://naacpdenver.org/event/naacp-community-meeting-3/
LOCATION:New Hope Baptist Church\, 3701 Colorado Blvd\, Denver\, CO\, 80205\, United States
ATTACH;FMTTYPE=image/png:https://naacpdenver.org/wp-content/uploads/2021/03/naacp_logo.png
END:VEVENT
BEGIN:VEVENT
DTSTART;TZID=UTC:20210609T110000
DTEND;TZID=UTC:20210609T130000
DTSTAMP:20260420T074527
CREATED:20210317T163657Z
LAST-MODIFIED:20210512T185034Z
UID:2123-1623236400-1623243600@naacpdenver.org
SUMMARY:Denver NAACP Monthly Community Meeting - Power & Politics
DESCRIPTION:Power & Politics\nBuilding Power Through Community Organizing\nGuest Speaker: Jorge Montiel (Community Lead Organizer\, COT IAF) \nLocation: New Hope Baptist Church – 3701 Colorado Blvd\, Denver\, CO 80205 \nAs a sponsoring member of the Colorado Organizing Team of the Industrial Areas Foundation (IAF)\, come and learn how the NAACP gains power with other community organizations to effect change in our communities. \n 
URL:https://naacpdenver.org/event/denver-naacp-monthly-community-meeting-power-politics/
LOCATION:New Hope Baptist Church\, 3701 Colorado Blvd\, Denver\, CO\, 80205\, United States
ATTACH;FMTTYPE=image/png:https://naacpdenver.org/wp-content/uploads/2021/03/event.png
END:VEVENT
BEGIN:VEVENT
DTSTART;TZID=UTC:20210508T110000
DTEND;TZID=UTC:20210508T123000
DTSTAMP:20260420T074527
CREATED:20210324T165818Z
LAST-MODIFIED:20210324T165818Z
UID:2514-1620471600-1620477000@naacpdenver.org
SUMMARY:NAACP Community Meeting
DESCRIPTION:Monthly membership meeting for all members and those who would like to join.
URL:https://naacpdenver.org/event/naacp-community-meeting-2/
LOCATION:New Hope Baptist Church\, 3701 Colorado Blvd\, Denver\, CO\, 80205\, United States
ATTACH;FMTTYPE=image/png:https://naacpdenver.org/wp-content/uploads/2021/03/naacp_logo.png
END:VEVENT
BEGIN:VEVENT
DTSTART;TZID=UTC:20210424T120000
DTEND;TZID=UTC:20210424T130000
DTSTAMP:20260420T074527
CREATED:20210318T234630Z
LAST-MODIFIED:20210604T203829Z
UID:2331-1619265600-1619269200@naacpdenver.org
SUMMARY:HBCU Tail Gate Event
DESCRIPTION:HBCU Tailgate Event\n\nDate: April 24\, 2021 (12pm to 1pm) \n\n\nA Virtual Event for High School Students
URL:https://naacpdenver.org/event/hbcu-tail-gate-event/
ATTACH;FMTTYPE=image/jpeg:https://naacpdenver.org/wp-content/uploads/2021/03/hbcu.jpg
END:VEVENT
END:VCALENDAR