BEGIN:VCALENDAR
VERSION:2.0
PRODID:-//NAACP Denver - ECPv6.15.20//NONSGML v1.0//EN
CALSCALE:GREGORIAN
METHOD:PUBLISH
X-WR-CALNAME:NAACP Denver
X-ORIGINAL-URL:https://naacpdenver.org
X-WR-CALDESC:Events for NAACP Denver
REFRESH-INTERVAL;VALUE=DURATION:PT1H
X-Robots-Tag:noindex
X-PUBLISHED-TTL:PT1H
BEGIN:VTIMEZONE
TZID:UTC
BEGIN:STANDARD
TZOFFSETFROM:+0000
TZOFFSETTO:+0000
TZNAME:UTC
DTSTART:20240101T000000
END:STANDARD
END:VTIMEZONE
BEGIN:VEVENT
DTSTART;TZID=UTC:20251110T170000
DTEND;TZID=UTC:20251110T180000
DTSTAMP:20260420T044852
CREATED:20210614T032703Z
LAST-MODIFIED:20240206T214156Z
UID:3928-1762794000-1762797600@naacpdenver.org
SUMMARY:Education Committee
DESCRIPTION:2nd Monday of each month \nhttps://us02web.zoom.us/j/86038377903 \n 
URL:https://naacpdenver.org/event/education-committee-2025-11-10/
END:VEVENT
BEGIN:VEVENT
DTSTART;TZID=UTC:20251108T110000
DTEND;TZID=UTC:20251108T123000
DTSTAMP:20260420T044852
CREATED:20210614T030759Z
LAST-MODIFIED:20210614T030759Z
UID:3920-1762599600-1762605000@naacpdenver.org
SUMMARY:Monthly Community Meeting
DESCRIPTION:NAACP Denver Branch hosts monthly meetings open to the public.  These meetings will address topics that affect communities of color in the City of Denver\, the State of Colorado and the Nation. \nTopic: Monthly Community Meeting\nTime: This is a recurring meeting Meet anytime \nJoin Zoom Meeting\nhttps://us02web.zoom.us/j/87864344222 \nMeeting ID: 878 6434 4222\nOne tap mobile\n+13462487799\,\,87864344222# US (Houston)\n+16699009128\,\,87864344222# US (San Jose) \nDial by your location\n+1 346 248 7799 US (Houston)\n+1 669 900 9128 US (San Jose)\n+1 253 215 8782 US (Tacoma)\n+1 312 626 6799 US (Chicago)\n+1 646 558 8656 US (New York)\n+1 301 715 8592 US (Washington DC)\nMeeting ID: 878 6434 4222\nFind your local number: https://us02web.zoom.us/u/kdKbmJV2D \n 
URL:https://naacpdenver.org/event/monthly-community-meeting-2025-11-08/
END:VEVENT
BEGIN:VEVENT
DTSTART;TZID=UTC:20251023T190000
DTEND;TZID=UTC:20251023T200000
DTSTAMP:20260420T044852
CREATED:20210614T025028Z
LAST-MODIFIED:20210614T025028Z
UID:3913-1761246000-1761249600@naacpdenver.org
SUMMARY:Monthly Membership Meeting
DESCRIPTION:The Monthly Membership Meeting for the Denver Branch of the NAACP will take place on the 4th Thursday of each month via zoom (Holidays Excluded) \nTopic: Monthly Membership Meeting\nTime: This is a recurring meeting Meet anytime \nJoin Zoom Meeting\nhttps://us02web.zoom.us/j/89561118750 \nMeeting ID: 895 6111 8750\nOne tap mobile\n+12532158782\,\,89561118750# US (Tacoma)\n+13462487799\,\,89561118750# US (Houston) \nDial by your location\n+1 253 215 8782 US (Tacoma)\n+1 346 248 7799 US (Houston)\n+1 669 900 9128 US (San Jose)\n+1 301 715 8592 US (Washington DC)\n+1 312 626 6799 US (Chicago)\n+1 646 558 8656 US (New York)\nMeeting ID: 895 6111 8750\nFind your local number: https://us02web.zoom.us/u/kgDr1yGWt \n 
URL:https://naacpdenver.org/event/monthly-membership-meeting-2025-10-23/
END:VEVENT
BEGIN:VEVENT
DTSTART;TZID=UTC:20251014T180000
DTEND;TZID=UTC:20251014T190000
DTSTAMP:20260420T044852
CREATED:20210614T032227Z
LAST-MODIFIED:20210614T032227Z
UID:3915-1760464800-1760468400@naacpdenver.org
SUMMARY:Communications & Community Engagement Committee Meeting
DESCRIPTION:Join Zoom Meeting\nhttps://us02web.zoom.us/j/85918936616?pwd=YTNJemxiTmJMZjhaaElBZjdjN2FzZz09 \nMeeting ID: 859 1893 6616\n \nPasscode: Community
URL:https://naacpdenver.org/event/communications-press-and-publicity-committee-meeting-2025-10-14/
END:VEVENT
BEGIN:VEVENT
DTSTART;TZID=UTC:20251013T170000
DTEND;TZID=UTC:20251013T180000
DTSTAMP:20260420T044852
CREATED:20210614T032703Z
LAST-MODIFIED:20240206T214155Z
UID:3914-1760374800-1760378400@naacpdenver.org
SUMMARY:Education Committee
DESCRIPTION:2nd Monday of each month \nhttps://us02web.zoom.us/j/86038377903 \n 
URL:https://naacpdenver.org/event/education-committee-2025-10-13/
END:VEVENT
BEGIN:VEVENT
DTSTART;TZID=UTC:20251011T110000
DTEND;TZID=UTC:20251011T123000
DTSTAMP:20260420T044852
CREATED:20210614T030759Z
LAST-MODIFIED:20210614T030759Z
UID:3911-1760180400-1760185800@naacpdenver.org
SUMMARY:Monthly Community Meeting
DESCRIPTION:NAACP Denver Branch hosts monthly meetings open to the public.  These meetings will address topics that affect communities of color in the City of Denver\, the State of Colorado and the Nation. \nTopic: Monthly Community Meeting\nTime: This is a recurring meeting Meet anytime \nJoin Zoom Meeting\nhttps://us02web.zoom.us/j/87864344222 \nMeeting ID: 878 6434 4222\nOne tap mobile\n+13462487799\,\,87864344222# US (Houston)\n+16699009128\,\,87864344222# US (San Jose) \nDial by your location\n+1 346 248 7799 US (Houston)\n+1 669 900 9128 US (San Jose)\n+1 253 215 8782 US (Tacoma)\n+1 312 626 6799 US (Chicago)\n+1 646 558 8656 US (New York)\n+1 301 715 8592 US (Washington DC)\nMeeting ID: 878 6434 4222\nFind your local number: https://us02web.zoom.us/u/kdKbmJV2D \n 
URL:https://naacpdenver.org/event/monthly-community-meeting-2025-10-11/
END:VEVENT
BEGIN:VEVENT
DTSTART;TZID=UTC:20250925T190000
DTEND;TZID=UTC:20250925T200000
DTSTAMP:20260420T044852
CREATED:20210614T025028Z
LAST-MODIFIED:20210614T025028Z
UID:3912-1758826800-1758830400@naacpdenver.org
SUMMARY:Monthly Membership Meeting
DESCRIPTION:The Monthly Membership Meeting for the Denver Branch of the NAACP will take place on the 4th Thursday of each month via zoom (Holidays Excluded) \nTopic: Monthly Membership Meeting\nTime: This is a recurring meeting Meet anytime \nJoin Zoom Meeting\nhttps://us02web.zoom.us/j/89561118750 \nMeeting ID: 895 6111 8750\nOne tap mobile\n+12532158782\,\,89561118750# US (Tacoma)\n+13462487799\,\,89561118750# US (Houston) \nDial by your location\n+1 253 215 8782 US (Tacoma)\n+1 346 248 7799 US (Houston)\n+1 669 900 9128 US (San Jose)\n+1 301 715 8592 US (Washington DC)\n+1 312 626 6799 US (Chicago)\n+1 646 558 8656 US (New York)\nMeeting ID: 895 6111 8750\nFind your local number: https://us02web.zoom.us/u/kgDr1yGWt \n 
URL:https://naacpdenver.org/event/monthly-membership-meeting-2025-09-25/
END:VEVENT
BEGIN:VEVENT
DTSTART;TZID=UTC:20250913T110000
DTEND;TZID=UTC:20250913T123000
DTSTAMP:20260420T044852
CREATED:20210614T030759Z
LAST-MODIFIED:20210614T030759Z
UID:3910-1757761200-1757766600@naacpdenver.org
SUMMARY:Monthly Community Meeting
DESCRIPTION:NAACP Denver Branch hosts monthly meetings open to the public.  These meetings will address topics that affect communities of color in the City of Denver\, the State of Colorado and the Nation. \nTopic: Monthly Community Meeting\nTime: This is a recurring meeting Meet anytime \nJoin Zoom Meeting\nhttps://us02web.zoom.us/j/87864344222 \nMeeting ID: 878 6434 4222\nOne tap mobile\n+13462487799\,\,87864344222# US (Houston)\n+16699009128\,\,87864344222# US (San Jose) \nDial by your location\n+1 346 248 7799 US (Houston)\n+1 669 900 9128 US (San Jose)\n+1 253 215 8782 US (Tacoma)\n+1 312 626 6799 US (Chicago)\n+1 646 558 8656 US (New York)\n+1 301 715 8592 US (Washington DC)\nMeeting ID: 878 6434 4222\nFind your local number: https://us02web.zoom.us/u/kdKbmJV2D \n 
URL:https://naacpdenver.org/event/monthly-community-meeting-2025-09-13/
END:VEVENT
BEGIN:VEVENT
DTSTART;TZID=UTC:20250909T180000
DTEND;TZID=UTC:20250909T190000
DTSTAMP:20260420T044852
CREATED:20210614T032227Z
LAST-MODIFIED:20210614T032227Z
UID:3897-1757440800-1757444400@naacpdenver.org
SUMMARY:Communications & Community Engagement Committee Meeting
DESCRIPTION:Join Zoom Meeting\nhttps://us02web.zoom.us/j/85918936616?pwd=YTNJemxiTmJMZjhaaElBZjdjN2FzZz09 \nMeeting ID: 859 1893 6616\n \nPasscode: Community
URL:https://naacpdenver.org/event/communications-press-and-publicity-committee-meeting-2025-09-09/
END:VEVENT
BEGIN:VEVENT
DTSTART;TZID=UTC:20250908T170000
DTEND;TZID=UTC:20250908T180000
DTSTAMP:20260420T044852
CREATED:20210614T032703Z
LAST-MODIFIED:20240206T214154Z
UID:3896-1757350800-1757354400@naacpdenver.org
SUMMARY:Education Committee
DESCRIPTION:2nd Monday of each month \nhttps://us02web.zoom.us/j/86038377903 \n 
URL:https://naacpdenver.org/event/education-committee-2025-09-08/
END:VEVENT
BEGIN:VEVENT
DTSTART;TZID=UTC:20250828T190000
DTEND;TZID=UTC:20250828T200000
DTSTAMP:20260420T044852
CREATED:20210614T025028Z
LAST-MODIFIED:20210614T025028Z
UID:3894-1756407600-1756411200@naacpdenver.org
SUMMARY:Monthly Membership Meeting
DESCRIPTION:The Monthly Membership Meeting for the Denver Branch of the NAACP will take place on the 4th Thursday of each month via zoom (Holidays Excluded) \nTopic: Monthly Membership Meeting\nTime: This is a recurring meeting Meet anytime \nJoin Zoom Meeting\nhttps://us02web.zoom.us/j/89561118750 \nMeeting ID: 895 6111 8750\nOne tap mobile\n+12532158782\,\,89561118750# US (Tacoma)\n+13462487799\,\,89561118750# US (Houston) \nDial by your location\n+1 253 215 8782 US (Tacoma)\n+1 346 248 7799 US (Houston)\n+1 669 900 9128 US (San Jose)\n+1 301 715 8592 US (Washington DC)\n+1 312 626 6799 US (Chicago)\n+1 646 558 8656 US (New York)\nMeeting ID: 895 6111 8750\nFind your local number: https://us02web.zoom.us/u/kgDr1yGWt \n 
URL:https://naacpdenver.org/event/monthly-membership-meeting-2025-08-28/
END:VEVENT
BEGIN:VEVENT
DTSTART;TZID=UTC:20250812T180000
DTEND;TZID=UTC:20250812T190000
DTSTAMP:20260420T044852
CREATED:20210614T032227Z
LAST-MODIFIED:20210614T032227Z
UID:3892-1755021600-1755025200@naacpdenver.org
SUMMARY:Communications & Community Engagement Committee Meeting
DESCRIPTION:Join Zoom Meeting\nhttps://us02web.zoom.us/j/85918936616?pwd=YTNJemxiTmJMZjhaaElBZjdjN2FzZz09 \nMeeting ID: 859 1893 6616\n \nPasscode: Community
URL:https://naacpdenver.org/event/communications-press-and-publicity-committee-meeting-2025-08-12/
END:VEVENT
BEGIN:VEVENT
DTSTART;TZID=UTC:20250811T170000
DTEND;TZID=UTC:20250811T180000
DTSTAMP:20260420T044852
CREATED:20210614T032703Z
LAST-MODIFIED:20240206T214153Z
UID:3891-1754931600-1754935200@naacpdenver.org
SUMMARY:Education Committee
DESCRIPTION:2nd Monday of each month \nhttps://us02web.zoom.us/j/86038377903 \n 
URL:https://naacpdenver.org/event/education-committee-2025-08-11/
END:VEVENT
BEGIN:VEVENT
DTSTART;TZID=UTC:20250809T110000
DTEND;TZID=UTC:20250809T123000
DTSTAMP:20260420T044852
CREATED:20210614T030759Z
LAST-MODIFIED:20210614T030759Z
UID:3890-1754737200-1754742600@naacpdenver.org
SUMMARY:Monthly Community Meeting
DESCRIPTION:NAACP Denver Branch hosts monthly meetings open to the public.  These meetings will address topics that affect communities of color in the City of Denver\, the State of Colorado and the Nation. \nTopic: Monthly Community Meeting\nTime: This is a recurring meeting Meet anytime \nJoin Zoom Meeting\nhttps://us02web.zoom.us/j/87864344222 \nMeeting ID: 878 6434 4222\nOne tap mobile\n+13462487799\,\,87864344222# US (Houston)\n+16699009128\,\,87864344222# US (San Jose) \nDial by your location\n+1 346 248 7799 US (Houston)\n+1 669 900 9128 US (San Jose)\n+1 253 215 8782 US (Tacoma)\n+1 312 626 6799 US (Chicago)\n+1 646 558 8656 US (New York)\n+1 301 715 8592 US (Washington DC)\nMeeting ID: 878 6434 4222\nFind your local number: https://us02web.zoom.us/u/kdKbmJV2D \n 
URL:https://naacpdenver.org/event/monthly-community-meeting-2025-08-09/
END:VEVENT
BEGIN:VEVENT
DTSTART;TZID=UTC:20250724T190000
DTEND;TZID=UTC:20250724T200000
DTSTAMP:20260420T044852
CREATED:20210614T025028Z
LAST-MODIFIED:20210614T025028Z
UID:3889-1753383600-1753387200@naacpdenver.org
SUMMARY:Monthly Membership Meeting
DESCRIPTION:The Monthly Membership Meeting for the Denver Branch of the NAACP will take place on the 4th Thursday of each month via zoom (Holidays Excluded) \nTopic: Monthly Membership Meeting\nTime: This is a recurring meeting Meet anytime \nJoin Zoom Meeting\nhttps://us02web.zoom.us/j/89561118750 \nMeeting ID: 895 6111 8750\nOne tap mobile\n+12532158782\,\,89561118750# US (Tacoma)\n+13462487799\,\,89561118750# US (Houston) \nDial by your location\n+1 253 215 8782 US (Tacoma)\n+1 346 248 7799 US (Houston)\n+1 669 900 9128 US (San Jose)\n+1 301 715 8592 US (Washington DC)\n+1 312 626 6799 US (Chicago)\n+1 646 558 8656 US (New York)\nMeeting ID: 895 6111 8750\nFind your local number: https://us02web.zoom.us/u/kgDr1yGWt \n 
URL:https://naacpdenver.org/event/monthly-membership-meeting-2025-07-24/
END:VEVENT
BEGIN:VEVENT
DTSTART;TZID=UTC:20250714T170000
DTEND;TZID=UTC:20250714T180000
DTSTAMP:20260420T044852
CREATED:20210614T032703Z
LAST-MODIFIED:20240206T214153Z
UID:3879-1752512400-1752516000@naacpdenver.org
SUMMARY:Education Committee
DESCRIPTION:2nd Monday of each month \nhttps://us02web.zoom.us/j/86038377903 \n 
URL:https://naacpdenver.org/event/education-committee-2025-07-14/
END:VEVENT
BEGIN:VEVENT
DTSTART;TZID=UTC:20250712T110000
DTEND;TZID=UTC:20250712T123000
DTSTAMP:20260420T044852
CREATED:20210614T030759Z
LAST-MODIFIED:20210614T030759Z
UID:3878-1752318000-1752323400@naacpdenver.org
SUMMARY:Monthly Community Meeting
DESCRIPTION:NAACP Denver Branch hosts monthly meetings open to the public.  These meetings will address topics that affect communities of color in the City of Denver\, the State of Colorado and the Nation. \nTopic: Monthly Community Meeting\nTime: This is a recurring meeting Meet anytime \nJoin Zoom Meeting\nhttps://us02web.zoom.us/j/87864344222 \nMeeting ID: 878 6434 4222\nOne tap mobile\n+13462487799\,\,87864344222# US (Houston)\n+16699009128\,\,87864344222# US (San Jose) \nDial by your location\n+1 346 248 7799 US (Houston)\n+1 669 900 9128 US (San Jose)\n+1 253 215 8782 US (Tacoma)\n+1 312 626 6799 US (Chicago)\n+1 646 558 8656 US (New York)\n+1 301 715 8592 US (Washington DC)\nMeeting ID: 878 6434 4222\nFind your local number: https://us02web.zoom.us/u/kdKbmJV2D \n 
URL:https://naacpdenver.org/event/monthly-community-meeting-2025-07-12/
END:VEVENT
BEGIN:VEVENT
DTSTART;TZID=UTC:20250708T180000
DTEND;TZID=UTC:20250708T190000
DTSTAMP:20260420T044852
CREATED:20210614T032227Z
LAST-MODIFIED:20210614T032227Z
UID:3877-1751997600-1752001200@naacpdenver.org
SUMMARY:Communications & Community Engagement Committee Meeting
DESCRIPTION:Join Zoom Meeting\nhttps://us02web.zoom.us/j/85918936616?pwd=YTNJemxiTmJMZjhaaElBZjdjN2FzZz09 \nMeeting ID: 859 1893 6616\n \nPasscode: Community
URL:https://naacpdenver.org/event/communications-press-and-publicity-committee-meeting-2025-07-08/
END:VEVENT
BEGIN:VEVENT
DTSTART;TZID=UTC:20250626T190000
DTEND;TZID=UTC:20250626T200000
DTSTAMP:20260420T044852
CREATED:20210614T025028Z
LAST-MODIFIED:20210614T025028Z
UID:3875-1750964400-1750968000@naacpdenver.org
SUMMARY:Monthly Membership Meeting
DESCRIPTION:The Monthly Membership Meeting for the Denver Branch of the NAACP will take place on the 4th Thursday of each month via zoom (Holidays Excluded) \nTopic: Monthly Membership Meeting\nTime: This is a recurring meeting Meet anytime \nJoin Zoom Meeting\nhttps://us02web.zoom.us/j/89561118750 \nMeeting ID: 895 6111 8750\nOne tap mobile\n+12532158782\,\,89561118750# US (Tacoma)\n+13462487799\,\,89561118750# US (Houston) \nDial by your location\n+1 253 215 8782 US (Tacoma)\n+1 346 248 7799 US (Houston)\n+1 669 900 9128 US (San Jose)\n+1 301 715 8592 US (Washington DC)\n+1 312 626 6799 US (Chicago)\n+1 646 558 8656 US (New York)\nMeeting ID: 895 6111 8750\nFind your local number: https://us02web.zoom.us/u/kgDr1yGWt \n 
URL:https://naacpdenver.org/event/monthly-membership-meeting-2025-06-26/
END:VEVENT
BEGIN:VEVENT
DTSTART;TZID=UTC:20250614T110000
DTEND;TZID=UTC:20250614T123000
DTSTAMP:20260420T044852
CREATED:20210614T030759Z
LAST-MODIFIED:20210614T030759Z
UID:3873-1749898800-1749904200@naacpdenver.org
SUMMARY:Monthly Community Meeting
DESCRIPTION:NAACP Denver Branch hosts monthly meetings open to the public.  These meetings will address topics that affect communities of color in the City of Denver\, the State of Colorado and the Nation. \nTopic: Monthly Community Meeting\nTime: This is a recurring meeting Meet anytime \nJoin Zoom Meeting\nhttps://us02web.zoom.us/j/87864344222 \nMeeting ID: 878 6434 4222\nOne tap mobile\n+13462487799\,\,87864344222# US (Houston)\n+16699009128\,\,87864344222# US (San Jose) \nDial by your location\n+1 346 248 7799 US (Houston)\n+1 669 900 9128 US (San Jose)\n+1 253 215 8782 US (Tacoma)\n+1 312 626 6799 US (Chicago)\n+1 646 558 8656 US (New York)\n+1 301 715 8592 US (Washington DC)\nMeeting ID: 878 6434 4222\nFind your local number: https://us02web.zoom.us/u/kdKbmJV2D \n 
URL:https://naacpdenver.org/event/monthly-community-meeting-2025-06-14/
END:VEVENT
BEGIN:VEVENT
DTSTART;TZID=UTC:20250610T180000
DTEND;TZID=UTC:20250610T190000
DTSTAMP:20260420T044852
CREATED:20210614T032227Z
LAST-MODIFIED:20210614T032227Z
UID:3872-1749578400-1749582000@naacpdenver.org
SUMMARY:Communications & Community Engagement Committee Meeting
DESCRIPTION:Join Zoom Meeting\nhttps://us02web.zoom.us/j/85918936616?pwd=YTNJemxiTmJMZjhaaElBZjdjN2FzZz09 \nMeeting ID: 859 1893 6616\n \nPasscode: Community
URL:https://naacpdenver.org/event/communications-press-and-publicity-committee-meeting-2025-06-10/
END:VEVENT
BEGIN:VEVENT
DTSTART;TZID=UTC:20250609T170000
DTEND;TZID=UTC:20250609T180000
DTSTAMP:20260420T044852
CREATED:20210614T032703Z
LAST-MODIFIED:20240206T214152Z
UID:3871-1749488400-1749492000@naacpdenver.org
SUMMARY:Education Committee
DESCRIPTION:2nd Monday of each month \nhttps://us02web.zoom.us/j/86038377903 \n 
URL:https://naacpdenver.org/event/education-committee-2025-06-09/
END:VEVENT
BEGIN:VEVENT
DTSTART;TZID=UTC:20250522T190000
DTEND;TZID=UTC:20250522T200000
DTSTAMP:20260420T044852
CREATED:20210614T025028Z
LAST-MODIFIED:20210614T025028Z
UID:3870-1747940400-1747944000@naacpdenver.org
SUMMARY:Monthly Membership Meeting
DESCRIPTION:The Monthly Membership Meeting for the Denver Branch of the NAACP will take place on the 4th Thursday of each month via zoom (Holidays Excluded) \nTopic: Monthly Membership Meeting\nTime: This is a recurring meeting Meet anytime \nJoin Zoom Meeting\nhttps://us02web.zoom.us/j/89561118750 \nMeeting ID: 895 6111 8750\nOne tap mobile\n+12532158782\,\,89561118750# US (Tacoma)\n+13462487799\,\,89561118750# US (Houston) \nDial by your location\n+1 253 215 8782 US (Tacoma)\n+1 346 248 7799 US (Houston)\n+1 669 900 9128 US (San Jose)\n+1 301 715 8592 US (Washington DC)\n+1 312 626 6799 US (Chicago)\n+1 646 558 8656 US (New York)\nMeeting ID: 895 6111 8750\nFind your local number: https://us02web.zoom.us/u/kgDr1yGWt \n 
URL:https://naacpdenver.org/event/monthly-membership-meeting-2025-05-22/
END:VEVENT
BEGIN:VEVENT
DTSTART;TZID=UTC:20250513T180000
DTEND;TZID=UTC:20250513T190000
DTSTAMP:20260420T044852
CREATED:20210614T032227Z
LAST-MODIFIED:20210614T032227Z
UID:3868-1747159200-1747162800@naacpdenver.org
SUMMARY:Communications & Community Engagement Committee Meeting
DESCRIPTION:Join Zoom Meeting\nhttps://us02web.zoom.us/j/85918936616?pwd=YTNJemxiTmJMZjhaaElBZjdjN2FzZz09 \nMeeting ID: 859 1893 6616\n \nPasscode: Community
URL:https://naacpdenver.org/event/communications-press-and-publicity-committee-meeting-2025-05-13/
END:VEVENT
BEGIN:VEVENT
DTSTART;TZID=UTC:20250512T170000
DTEND;TZID=UTC:20250512T180000
DTSTAMP:20260420T044852
CREATED:20210614T032703Z
LAST-MODIFIED:20240206T214150Z
UID:3867-1747069200-1747072800@naacpdenver.org
SUMMARY:Education Committee
DESCRIPTION:2nd Monday of each month \nhttps://us02web.zoom.us/j/86038377903 \n 
URL:https://naacpdenver.org/event/education-committee-2025-05-12/
END:VEVENT
BEGIN:VEVENT
DTSTART;TZID=UTC:20250510T110000
DTEND;TZID=UTC:20250510T123000
DTSTAMP:20260420T044852
CREATED:20210614T030759Z
LAST-MODIFIED:20210614T030759Z
UID:3864-1746874800-1746880200@naacpdenver.org
SUMMARY:Monthly Community Meeting
DESCRIPTION:NAACP Denver Branch hosts monthly meetings open to the public.  These meetings will address topics that affect communities of color in the City of Denver\, the State of Colorado and the Nation. \nTopic: Monthly Community Meeting\nTime: This is a recurring meeting Meet anytime \nJoin Zoom Meeting\nhttps://us02web.zoom.us/j/87864344222 \nMeeting ID: 878 6434 4222\nOne tap mobile\n+13462487799\,\,87864344222# US (Houston)\n+16699009128\,\,87864344222# US (San Jose) \nDial by your location\n+1 346 248 7799 US (Houston)\n+1 669 900 9128 US (San Jose)\n+1 253 215 8782 US (Tacoma)\n+1 312 626 6799 US (Chicago)\n+1 646 558 8656 US (New York)\n+1 301 715 8592 US (Washington DC)\nMeeting ID: 878 6434 4222\nFind your local number: https://us02web.zoom.us/u/kdKbmJV2D \n 
URL:https://naacpdenver.org/event/monthly-community-meeting-2025-05-10/
END:VEVENT
BEGIN:VEVENT
DTSTART;TZID=UTC:20250424T190000
DTEND;TZID=UTC:20250424T200000
DTSTAMP:20260420T044852
CREATED:20210614T025028Z
LAST-MODIFIED:20210614T025028Z
UID:3862-1745521200-1745524800@naacpdenver.org
SUMMARY:Monthly Membership Meeting
DESCRIPTION:The Monthly Membership Meeting for the Denver Branch of the NAACP will take place on the 4th Thursday of each month via zoom (Holidays Excluded) \nTopic: Monthly Membership Meeting\nTime: This is a recurring meeting Meet anytime \nJoin Zoom Meeting\nhttps://us02web.zoom.us/j/89561118750 \nMeeting ID: 895 6111 8750\nOne tap mobile\n+12532158782\,\,89561118750# US (Tacoma)\n+13462487799\,\,89561118750# US (Houston) \nDial by your location\n+1 253 215 8782 US (Tacoma)\n+1 346 248 7799 US (Houston)\n+1 669 900 9128 US (San Jose)\n+1 301 715 8592 US (Washington DC)\n+1 312 626 6799 US (Chicago)\n+1 646 558 8656 US (New York)\nMeeting ID: 895 6111 8750\nFind your local number: https://us02web.zoom.us/u/kgDr1yGWt \n 
URL:https://naacpdenver.org/event/monthly-membership-meeting-2025-04-24/
END:VEVENT
BEGIN:VEVENT
DTSTART;TZID=UTC:20250414T170000
DTEND;TZID=UTC:20250414T180000
DTSTAMP:20260420T044852
CREATED:20210614T032703Z
LAST-MODIFIED:20240206T214150Z
UID:3855-1744650000-1744653600@naacpdenver.org
SUMMARY:Education Committee
DESCRIPTION:2nd Monday of each month \nhttps://us02web.zoom.us/j/86038377903 \n 
URL:https://naacpdenver.org/event/education-committee-2025-04-14/
END:VEVENT
BEGIN:VEVENT
DTSTART;TZID=UTC:20250412T110000
DTEND;TZID=UTC:20250412T123000
DTSTAMP:20260420T044852
CREATED:20210614T030759Z
LAST-MODIFIED:20210614T030759Z
UID:3854-1744455600-1744461000@naacpdenver.org
SUMMARY:Monthly Community Meeting
DESCRIPTION:NAACP Denver Branch hosts monthly meetings open to the public.  These meetings will address topics that affect communities of color in the City of Denver\, the State of Colorado and the Nation. \nTopic: Monthly Community Meeting\nTime: This is a recurring meeting Meet anytime \nJoin Zoom Meeting\nhttps://us02web.zoom.us/j/87864344222 \nMeeting ID: 878 6434 4222\nOne tap mobile\n+13462487799\,\,87864344222# US (Houston)\n+16699009128\,\,87864344222# US (San Jose) \nDial by your location\n+1 346 248 7799 US (Houston)\n+1 669 900 9128 US (San Jose)\n+1 253 215 8782 US (Tacoma)\n+1 312 626 6799 US (Chicago)\n+1 646 558 8656 US (New York)\n+1 301 715 8592 US (Washington DC)\nMeeting ID: 878 6434 4222\nFind your local number: https://us02web.zoom.us/u/kdKbmJV2D \n 
URL:https://naacpdenver.org/event/monthly-community-meeting-2025-04-12/
END:VEVENT
BEGIN:VEVENT
DTSTART;TZID=UTC:20250408T180000
DTEND;TZID=UTC:20250408T190000
DTSTAMP:20260420T044852
CREATED:20210614T032227Z
LAST-MODIFIED:20210614T032227Z
UID:3803-1744135200-1744138800@naacpdenver.org
SUMMARY:Communications & Community Engagement Committee Meeting
DESCRIPTION:Join Zoom Meeting\nhttps://us02web.zoom.us/j/85918936616?pwd=YTNJemxiTmJMZjhaaElBZjdjN2FzZz09 \nMeeting ID: 859 1893 6616\n \nPasscode: Community
URL:https://naacpdenver.org/event/communications-press-and-publicity-committee-meeting-2025-04-08/
END:VEVENT
END:VCALENDAR