BEGIN:VCALENDAR
VERSION:2.0
PRODID:-//NAACP Denver - ECPv6.15.20//NONSGML v1.0//EN
CALSCALE:GREGORIAN
METHOD:PUBLISH
X-ORIGINAL-URL:https://naacpdenver.org
X-WR-CALDESC:Events for NAACP Denver
REFRESH-INTERVAL;VALUE=DURATION:PT1H
X-Robots-Tag:noindex
X-PUBLISHED-TTL:PT1H
BEGIN:VTIMEZONE
TZID:UTC
BEGIN:STANDARD
TZOFFSETFROM:+0000
TZOFFSETTO:+0000
TZNAME:UTC
DTSTART:20250101T000000
END:STANDARD
END:VTIMEZONE
BEGIN:VEVENT
DTSTART;TZID=UTC:20261109T170000
DTEND;TZID=UTC:20261109T180000
DTSTAMP:20260419T193336
CREATED:20210614T032703Z
LAST-MODIFIED:20210614T032703Z
UID:4322-1794243600-1794247200@naacpdenver.org
SUMMARY:Education Committee
DESCRIPTION:2nd Monday of each month \nhttps://us02web.zoom.us/j/86038377903 \n 
URL:https://naacpdenver.org/event/education-committee-2026-11-09/
END:VEVENT
BEGIN:VEVENT
DTSTART;TZID=UTC:20261114T110000
DTEND;TZID=UTC:20261114T123000
DTSTAMP:20260419T193336
CREATED:20210614T030759Z
LAST-MODIFIED:20210614T030759Z
UID:4317-1794654000-1794659400@naacpdenver.org
SUMMARY:Monthly Community Meeting
DESCRIPTION:NAACP Denver Branch hosts monthly meetings open to the public.  These meetings will address topics that affect communities of color in the City of Denver\, the State of Colorado and the Nation. \nTopic: Monthly Community Meeting\nTime: This is a recurring meeting Meet anytime \nJoin Zoom Meeting\nhttps://us02web.zoom.us/j/87864344222 \nMeeting ID: 878 6434 4222\nOne tap mobile\n+13462487799\,\,87864344222# US (Houston)\n+16699009128\,\,87864344222# US (San Jose) \nDial by your location\n+1 346 248 7799 US (Houston)\n+1 669 900 9128 US (San Jose)\n+1 253 215 8782 US (Tacoma)\n+1 312 626 6799 US (Chicago)\n+1 646 558 8656 US (New York)\n+1 301 715 8592 US (Washington DC)\nMeeting ID: 878 6434 4222\nFind your local number: https://us02web.zoom.us/u/kdKbmJV2D \n 
URL:https://naacpdenver.org/event/monthly-community-meeting-2026-11-14/
END:VEVENT
BEGIN:VEVENT
DTSTART;TZID=UTC:20261126T190000
DTEND;TZID=UTC:20261126T200000
DTSTAMP:20260419T193336
CREATED:20210614T025028Z
LAST-MODIFIED:20210614T025028Z
UID:4328-1795719600-1795723200@naacpdenver.org
SUMMARY:Monthly Membership Meeting
DESCRIPTION:The Monthly Membership Meeting for the Denver Branch of the NAACP will take place on the 4th Thursday of each month via zoom (Holidays Excluded) \nTopic: Monthly Membership Meeting\nTime: This is a recurring meeting Meet anytime \nJoin Zoom Meeting\nhttps://us02web.zoom.us/j/89561118750 \nMeeting ID: 895 6111 8750\nOne tap mobile\n+12532158782\,\,89561118750# US (Tacoma)\n+13462487799\,\,89561118750# US (Houston) \nDial by your location\n+1 253 215 8782 US (Tacoma)\n+1 346 248 7799 US (Houston)\n+1 669 900 9128 US (San Jose)\n+1 301 715 8592 US (Washington DC)\n+1 312 626 6799 US (Chicago)\n+1 646 558 8656 US (New York)\nMeeting ID: 895 6111 8750\nFind your local number: https://us02web.zoom.us/u/kgDr1yGWt \n 
URL:https://naacpdenver.org/event/monthly-membership-meeting-2026-11-26/
END:VEVENT
BEGIN:VEVENT
DTSTART;TZID=UTC:20261212T110000
DTEND;TZID=UTC:20261212T123000
DTSTAMP:20260419T193336
CREATED:20210614T030759Z
LAST-MODIFIED:20210614T030759Z
UID:4318-1797073200-1797078600@naacpdenver.org
SUMMARY:Monthly Community Meeting
DESCRIPTION:NAACP Denver Branch hosts monthly meetings open to the public.  These meetings will address topics that affect communities of color in the City of Denver\, the State of Colorado and the Nation. \nTopic: Monthly Community Meeting\nTime: This is a recurring meeting Meet anytime \nJoin Zoom Meeting\nhttps://us02web.zoom.us/j/87864344222 \nMeeting ID: 878 6434 4222\nOne tap mobile\n+13462487799\,\,87864344222# US (Houston)\n+16699009128\,\,87864344222# US (San Jose) \nDial by your location\n+1 346 248 7799 US (Houston)\n+1 669 900 9128 US (San Jose)\n+1 253 215 8782 US (Tacoma)\n+1 312 626 6799 US (Chicago)\n+1 646 558 8656 US (New York)\n+1 301 715 8592 US (Washington DC)\nMeeting ID: 878 6434 4222\nFind your local number: https://us02web.zoom.us/u/kdKbmJV2D \n 
URL:https://naacpdenver.org/event/monthly-community-meeting-2026-12-12/
END:VEVENT
BEGIN:VEVENT
DTSTART;TZID=UTC:20261214T170000
DTEND;TZID=UTC:20261214T180000
DTSTAMP:20260419T193336
CREATED:20210614T032703Z
LAST-MODIFIED:20210614T032703Z
UID:4323-1797267600-1797271200@naacpdenver.org
SUMMARY:Education Committee
DESCRIPTION:2nd Monday of each month \nhttps://us02web.zoom.us/j/86038377903 \n 
URL:https://naacpdenver.org/event/education-committee-2026-12-14/
END:VEVENT
BEGIN:VEVENT
DTSTART;TZID=UTC:20261224T190000
DTEND;TZID=UTC:20261224T200000
DTSTAMP:20260419T193336
CREATED:20210614T025028Z
LAST-MODIFIED:20210614T025028Z
UID:4329-1798138800-1798142400@naacpdenver.org
SUMMARY:Monthly Membership Meeting
DESCRIPTION:The Monthly Membership Meeting for the Denver Branch of the NAACP will take place on the 4th Thursday of each month via zoom (Holidays Excluded) \nTopic: Monthly Membership Meeting\nTime: This is a recurring meeting Meet anytime \nJoin Zoom Meeting\nhttps://us02web.zoom.us/j/89561118750 \nMeeting ID: 895 6111 8750\nOne tap mobile\n+12532158782\,\,89561118750# US (Tacoma)\n+13462487799\,\,89561118750# US (Houston) \nDial by your location\n+1 253 215 8782 US (Tacoma)\n+1 346 248 7799 US (Houston)\n+1 669 900 9128 US (San Jose)\n+1 301 715 8592 US (Washington DC)\n+1 312 626 6799 US (Chicago)\n+1 646 558 8656 US (New York)\nMeeting ID: 895 6111 8750\nFind your local number: https://us02web.zoom.us/u/kgDr1yGWt \n 
URL:https://naacpdenver.org/event/monthly-membership-meeting-2026-12-24/
END:VEVENT
BEGIN:VEVENT
DTSTART;TZID=UTC:20270109T110000
DTEND;TZID=UTC:20270109T123000
DTSTAMP:20260419T193336
CREATED:20210614T030759Z
LAST-MODIFIED:20210614T030759Z
UID:4319-1799492400-1799497800@naacpdenver.org
SUMMARY:Monthly Community Meeting
DESCRIPTION:NAACP Denver Branch hosts monthly meetings open to the public.  These meetings will address topics that affect communities of color in the City of Denver\, the State of Colorado and the Nation. \nTopic: Monthly Community Meeting\nTime: This is a recurring meeting Meet anytime \nJoin Zoom Meeting\nhttps://us02web.zoom.us/j/87864344222 \nMeeting ID: 878 6434 4222\nOne tap mobile\n+13462487799\,\,87864344222# US (Houston)\n+16699009128\,\,87864344222# US (San Jose) \nDial by your location\n+1 346 248 7799 US (Houston)\n+1 669 900 9128 US (San Jose)\n+1 253 215 8782 US (Tacoma)\n+1 312 626 6799 US (Chicago)\n+1 646 558 8656 US (New York)\n+1 301 715 8592 US (Washington DC)\nMeeting ID: 878 6434 4222\nFind your local number: https://us02web.zoom.us/u/kdKbmJV2D \n 
URL:https://naacpdenver.org/event/monthly-community-meeting-2027-01-09/
END:VEVENT
BEGIN:VEVENT
DTSTART;TZID=UTC:20270111T170000
DTEND;TZID=UTC:20270111T180000
DTSTAMP:20260419T193336
CREATED:20210614T032703Z
LAST-MODIFIED:20210614T032703Z
UID:4324-1799686800-1799690400@naacpdenver.org
SUMMARY:Education Committee
DESCRIPTION:2nd Monday of each month \nhttps://us02web.zoom.us/j/86038377903 \n 
URL:https://naacpdenver.org/event/education-committee-2027-01-11/
END:VEVENT
BEGIN:VEVENT
DTSTART;TZID=UTC:20270128T190000
DTEND;TZID=UTC:20270128T200000
DTSTAMP:20260419T193336
CREATED:20210614T025028Z
LAST-MODIFIED:20210614T025028Z
UID:4330-1801162800-1801166400@naacpdenver.org
SUMMARY:Monthly Membership Meeting
DESCRIPTION:The Monthly Membership Meeting for the Denver Branch of the NAACP will take place on the 4th Thursday of each month via zoom (Holidays Excluded) \nTopic: Monthly Membership Meeting\nTime: This is a recurring meeting Meet anytime \nJoin Zoom Meeting\nhttps://us02web.zoom.us/j/89561118750 \nMeeting ID: 895 6111 8750\nOne tap mobile\n+12532158782\,\,89561118750# US (Tacoma)\n+13462487799\,\,89561118750# US (Houston) \nDial by your location\n+1 253 215 8782 US (Tacoma)\n+1 346 248 7799 US (Houston)\n+1 669 900 9128 US (San Jose)\n+1 301 715 8592 US (Washington DC)\n+1 312 626 6799 US (Chicago)\n+1 646 558 8656 US (New York)\nMeeting ID: 895 6111 8750\nFind your local number: https://us02web.zoom.us/u/kgDr1yGWt \n 
URL:https://naacpdenver.org/event/monthly-membership-meeting-2027-01-28/
END:VEVENT
BEGIN:VEVENT
DTSTART;TZID=UTC:20270208T170000
DTEND;TZID=UTC:20270208T180000
DTSTAMP:20260419T193336
CREATED:20210614T032703Z
LAST-MODIFIED:20210614T032703Z
UID:4325-1802106000-1802109600@naacpdenver.org
SUMMARY:Education Committee
DESCRIPTION:2nd Monday of each month \nhttps://us02web.zoom.us/j/86038377903 \n 
URL:https://naacpdenver.org/event/education-committee-2027-02-08/
END:VEVENT
BEGIN:VEVENT
DTSTART;TZID=UTC:20270213T110000
DTEND;TZID=UTC:20270213T123000
DTSTAMP:20260419T193336
CREATED:20210614T030759Z
LAST-MODIFIED:20210614T030759Z
UID:4320-1802516400-1802521800@naacpdenver.org
SUMMARY:Monthly Community Meeting
DESCRIPTION:NAACP Denver Branch hosts monthly meetings open to the public.  These meetings will address topics that affect communities of color in the City of Denver\, the State of Colorado and the Nation. \nTopic: Monthly Community Meeting\nTime: This is a recurring meeting Meet anytime \nJoin Zoom Meeting\nhttps://us02web.zoom.us/j/87864344222 \nMeeting ID: 878 6434 4222\nOne tap mobile\n+13462487799\,\,87864344222# US (Houston)\n+16699009128\,\,87864344222# US (San Jose) \nDial by your location\n+1 346 248 7799 US (Houston)\n+1 669 900 9128 US (San Jose)\n+1 253 215 8782 US (Tacoma)\n+1 312 626 6799 US (Chicago)\n+1 646 558 8656 US (New York)\n+1 301 715 8592 US (Washington DC)\nMeeting ID: 878 6434 4222\nFind your local number: https://us02web.zoom.us/u/kdKbmJV2D \n 
URL:https://naacpdenver.org/event/monthly-community-meeting-2027-02-13/
END:VEVENT
BEGIN:VEVENT
DTSTART;TZID=UTC:20270225T190000
DTEND;TZID=UTC:20270225T200000
DTSTAMP:20260419T193336
CREATED:20210614T025028Z
LAST-MODIFIED:20210614T025028Z
UID:4331-1803582000-1803585600@naacpdenver.org
SUMMARY:Monthly Membership Meeting
DESCRIPTION:The Monthly Membership Meeting for the Denver Branch of the NAACP will take place on the 4th Thursday of each month via zoom (Holidays Excluded) \nTopic: Monthly Membership Meeting\nTime: This is a recurring meeting Meet anytime \nJoin Zoom Meeting\nhttps://us02web.zoom.us/j/89561118750 \nMeeting ID: 895 6111 8750\nOne tap mobile\n+12532158782\,\,89561118750# US (Tacoma)\n+13462487799\,\,89561118750# US (Houston) \nDial by your location\n+1 253 215 8782 US (Tacoma)\n+1 346 248 7799 US (Houston)\n+1 669 900 9128 US (San Jose)\n+1 301 715 8592 US (Washington DC)\n+1 312 626 6799 US (Chicago)\n+1 646 558 8656 US (New York)\nMeeting ID: 895 6111 8750\nFind your local number: https://us02web.zoom.us/u/kgDr1yGWt \n 
URL:https://naacpdenver.org/event/monthly-membership-meeting-2027-02-25/
END:VEVENT
BEGIN:VEVENT
DTSTART;TZID=UTC:20270308T170000
DTEND;TZID=UTC:20270308T180000
DTSTAMP:20260419T193336
CREATED:20210614T032703Z
LAST-MODIFIED:20210614T032703Z
UID:4326-1804525200-1804528800@naacpdenver.org
SUMMARY:Education Committee
DESCRIPTION:2nd Monday of each month \nhttps://us02web.zoom.us/j/86038377903 \n 
URL:https://naacpdenver.org/event/education-committee-2027-03-08/
END:VEVENT
BEGIN:VEVENT
DTSTART;TZID=UTC:20270313T110000
DTEND;TZID=UTC:20270313T123000
DTSTAMP:20260419T193336
CREATED:20210614T030759Z
LAST-MODIFIED:20210614T030759Z
UID:4337-1804935600-1804941000@naacpdenver.org
SUMMARY:Monthly Community Meeting
DESCRIPTION:NAACP Denver Branch hosts monthly meetings open to the public.  These meetings will address topics that affect communities of color in the City of Denver\, the State of Colorado and the Nation. \nTopic: Monthly Community Meeting\nTime: This is a recurring meeting Meet anytime \nJoin Zoom Meeting\nhttps://us02web.zoom.us/j/87864344222 \nMeeting ID: 878 6434 4222\nOne tap mobile\n+13462487799\,\,87864344222# US (Houston)\n+16699009128\,\,87864344222# US (San Jose) \nDial by your location\n+1 346 248 7799 US (Houston)\n+1 669 900 9128 US (San Jose)\n+1 253 215 8782 US (Tacoma)\n+1 312 626 6799 US (Chicago)\n+1 646 558 8656 US (New York)\n+1 301 715 8592 US (Washington DC)\nMeeting ID: 878 6434 4222\nFind your local number: https://us02web.zoom.us/u/kdKbmJV2D \n 
URL:https://naacpdenver.org/event/monthly-community-meeting-2027-03-13/
END:VEVENT
BEGIN:VEVENT
DTSTART;TZID=UTC:20270325T190000
DTEND;TZID=UTC:20270325T200000
DTSTAMP:20260419T193336
CREATED:20210614T025028Z
LAST-MODIFIED:20210614T025028Z
UID:4338-1806001200-1806004800@naacpdenver.org
SUMMARY:Monthly Membership Meeting
DESCRIPTION:The Monthly Membership Meeting for the Denver Branch of the NAACP will take place on the 4th Thursday of each month via zoom (Holidays Excluded) \nTopic: Monthly Membership Meeting\nTime: This is a recurring meeting Meet anytime \nJoin Zoom Meeting\nhttps://us02web.zoom.us/j/89561118750 \nMeeting ID: 895 6111 8750\nOne tap mobile\n+12532158782\,\,89561118750# US (Tacoma)\n+13462487799\,\,89561118750# US (Houston) \nDial by your location\n+1 253 215 8782 US (Tacoma)\n+1 346 248 7799 US (Houston)\n+1 669 900 9128 US (San Jose)\n+1 301 715 8592 US (Washington DC)\n+1 312 626 6799 US (Chicago)\n+1 646 558 8656 US (New York)\nMeeting ID: 895 6111 8750\nFind your local number: https://us02web.zoom.us/u/kgDr1yGWt \n 
URL:https://naacpdenver.org/event/monthly-membership-meeting-2027-03-25/
END:VEVENT
BEGIN:VEVENT
DTSTART;TZID=UTC:20270410T110000
DTEND;TZID=UTC:20270410T123000
DTSTAMP:20260419T193336
CREATED:20210614T030759Z
LAST-MODIFIED:20210614T030759Z
UID:4361-1807354800-1807360200@naacpdenver.org
SUMMARY:Monthly Community Meeting
DESCRIPTION:NAACP Denver Branch hosts monthly meetings open to the public.  These meetings will address topics that affect communities of color in the City of Denver\, the State of Colorado and the Nation. \nTopic: Monthly Community Meeting\nTime: This is a recurring meeting Meet anytime \nJoin Zoom Meeting\nhttps://us02web.zoom.us/j/87864344222 \nMeeting ID: 878 6434 4222\nOne tap mobile\n+13462487799\,\,87864344222# US (Houston)\n+16699009128\,\,87864344222# US (San Jose) \nDial by your location\n+1 346 248 7799 US (Houston)\n+1 669 900 9128 US (San Jose)\n+1 253 215 8782 US (Tacoma)\n+1 312 626 6799 US (Chicago)\n+1 646 558 8656 US (New York)\n+1 301 715 8592 US (Washington DC)\nMeeting ID: 878 6434 4222\nFind your local number: https://us02web.zoom.us/u/kdKbmJV2D \n 
URL:https://naacpdenver.org/event/monthly-community-meeting-2027-04-10/
END:VEVENT
BEGIN:VEVENT
DTSTART;TZID=UTC:20270412T170000
DTEND;TZID=UTC:20270412T180000
DTSTAMP:20260419T193336
CREATED:20210614T032703Z
LAST-MODIFIED:20210614T032703Z
UID:4362-1807549200-1807552800@naacpdenver.org
SUMMARY:Education Committee
DESCRIPTION:2nd Monday of each month \nhttps://us02web.zoom.us/j/86038377903 \n 
URL:https://naacpdenver.org/event/education-committee-2027-04-12/
END:VEVENT
BEGIN:VEVENT
DTSTART;TZID=UTC:20270422T190000
DTEND;TZID=UTC:20270422T200000
DTSTAMP:20260419T193336
CREATED:20210614T025028Z
LAST-MODIFIED:20210614T025028Z
UID:4369-1808420400-1808424000@naacpdenver.org
SUMMARY:Monthly Membership Meeting
DESCRIPTION:The Monthly Membership Meeting for the Denver Branch of the NAACP will take place on the 4th Thursday of each month via zoom (Holidays Excluded) \nTopic: Monthly Membership Meeting\nTime: This is a recurring meeting Meet anytime \nJoin Zoom Meeting\nhttps://us02web.zoom.us/j/89561118750 \nMeeting ID: 895 6111 8750\nOne tap mobile\n+12532158782\,\,89561118750# US (Tacoma)\n+13462487799\,\,89561118750# US (Houston) \nDial by your location\n+1 253 215 8782 US (Tacoma)\n+1 346 248 7799 US (Houston)\n+1 669 900 9128 US (San Jose)\n+1 301 715 8592 US (Washington DC)\n+1 312 626 6799 US (Chicago)\n+1 646 558 8656 US (New York)\nMeeting ID: 895 6111 8750\nFind your local number: https://us02web.zoom.us/u/kgDr1yGWt \n 
URL:https://naacpdenver.org/event/monthly-membership-meeting-2027-04-22/
END:VEVENT
BEGIN:VEVENT
DTSTART;TZID=UTC:20270508T110000
DTEND;TZID=UTC:20270508T123000
DTSTAMP:20260419T193336
CREATED:20210614T030759Z
LAST-MODIFIED:20210614T030759Z
UID:4370-1809774000-1809779400@naacpdenver.org
SUMMARY:Monthly Community Meeting
DESCRIPTION:NAACP Denver Branch hosts monthly meetings open to the public.  These meetings will address topics that affect communities of color in the City of Denver\, the State of Colorado and the Nation. \nTopic: Monthly Community Meeting\nTime: This is a recurring meeting Meet anytime \nJoin Zoom Meeting\nhttps://us02web.zoom.us/j/87864344222 \nMeeting ID: 878 6434 4222\nOne tap mobile\n+13462487799\,\,87864344222# US (Houston)\n+16699009128\,\,87864344222# US (San Jose) \nDial by your location\n+1 346 248 7799 US (Houston)\n+1 669 900 9128 US (San Jose)\n+1 253 215 8782 US (Tacoma)\n+1 312 626 6799 US (Chicago)\n+1 646 558 8656 US (New York)\n+1 301 715 8592 US (Washington DC)\nMeeting ID: 878 6434 4222\nFind your local number: https://us02web.zoom.us/u/kdKbmJV2D \n 
URL:https://naacpdenver.org/event/monthly-community-meeting-2027-05-08/
END:VEVENT
BEGIN:VEVENT
DTSTART;TZID=UTC:20270510T170000
DTEND;TZID=UTC:20270510T180000
DTSTAMP:20260419T193336
CREATED:20210614T032703Z
LAST-MODIFIED:20210614T032703Z
UID:4371-1809968400-1809972000@naacpdenver.org
SUMMARY:Education Committee
DESCRIPTION:2nd Monday of each month \nhttps://us02web.zoom.us/j/86038377903 \n 
URL:https://naacpdenver.org/event/education-committee-2027-05-10/
END:VEVENT
BEGIN:VEVENT
DTSTART;TZID=UTC:20270527T190000
DTEND;TZID=UTC:20270527T200000
DTSTAMP:20260419T193336
CREATED:20210614T025028Z
LAST-MODIFIED:20210614T025028Z
UID:4372-1811444400-1811448000@naacpdenver.org
SUMMARY:Monthly Membership Meeting
DESCRIPTION:The Monthly Membership Meeting for the Denver Branch of the NAACP will take place on the 4th Thursday of each month via zoom (Holidays Excluded) \nTopic: Monthly Membership Meeting\nTime: This is a recurring meeting Meet anytime \nJoin Zoom Meeting\nhttps://us02web.zoom.us/j/89561118750 \nMeeting ID: 895 6111 8750\nOne tap mobile\n+12532158782\,\,89561118750# US (Tacoma)\n+13462487799\,\,89561118750# US (Houston) \nDial by your location\n+1 253 215 8782 US (Tacoma)\n+1 346 248 7799 US (Houston)\n+1 669 900 9128 US (San Jose)\n+1 301 715 8592 US (Washington DC)\n+1 312 626 6799 US (Chicago)\n+1 646 558 8656 US (New York)\nMeeting ID: 895 6111 8750\nFind your local number: https://us02web.zoom.us/u/kgDr1yGWt \n 
URL:https://naacpdenver.org/event/monthly-membership-meeting-2027-05-27/
END:VEVENT
BEGIN:VEVENT
DTSTART;TZID=UTC:20270612T110000
DTEND;TZID=UTC:20270612T123000
DTSTAMP:20260419T193336
CREATED:20210614T030759Z
LAST-MODIFIED:20210614T030759Z
UID:4373-1812798000-1812803400@naacpdenver.org
SUMMARY:Monthly Community Meeting
DESCRIPTION:NAACP Denver Branch hosts monthly meetings open to the public.  These meetings will address topics that affect communities of color in the City of Denver\, the State of Colorado and the Nation. \nTopic: Monthly Community Meeting\nTime: This is a recurring meeting Meet anytime \nJoin Zoom Meeting\nhttps://us02web.zoom.us/j/87864344222 \nMeeting ID: 878 6434 4222\nOne tap mobile\n+13462487799\,\,87864344222# US (Houston)\n+16699009128\,\,87864344222# US (San Jose) \nDial by your location\n+1 346 248 7799 US (Houston)\n+1 669 900 9128 US (San Jose)\n+1 253 215 8782 US (Tacoma)\n+1 312 626 6799 US (Chicago)\n+1 646 558 8656 US (New York)\n+1 301 715 8592 US (Washington DC)\nMeeting ID: 878 6434 4222\nFind your local number: https://us02web.zoom.us/u/kdKbmJV2D \n 
URL:https://naacpdenver.org/event/monthly-community-meeting-2027-06-12/
END:VEVENT
BEGIN:VEVENT
DTSTART;TZID=UTC:20270614T170000
DTEND;TZID=UTC:20270614T180000
DTSTAMP:20260419T193336
CREATED:20210614T032703Z
LAST-MODIFIED:20210614T032703Z
UID:4374-1812992400-1812996000@naacpdenver.org
SUMMARY:Education Committee
DESCRIPTION:2nd Monday of each month \nhttps://us02web.zoom.us/j/86038377903 \n 
URL:https://naacpdenver.org/event/education-committee-2027-06-14/
END:VEVENT
BEGIN:VEVENT
DTSTART;TZID=UTC:20270624T190000
DTEND;TZID=UTC:20270624T200000
DTSTAMP:20260419T193336
CREATED:20210614T025028Z
LAST-MODIFIED:20210614T025028Z
UID:4376-1813863600-1813867200@naacpdenver.org
SUMMARY:Monthly Membership Meeting
DESCRIPTION:The Monthly Membership Meeting for the Denver Branch of the NAACP will take place on the 4th Thursday of each month via zoom (Holidays Excluded) \nTopic: Monthly Membership Meeting\nTime: This is a recurring meeting Meet anytime \nJoin Zoom Meeting\nhttps://us02web.zoom.us/j/89561118750 \nMeeting ID: 895 6111 8750\nOne tap mobile\n+12532158782\,\,89561118750# US (Tacoma)\n+13462487799\,\,89561118750# US (Houston) \nDial by your location\n+1 253 215 8782 US (Tacoma)\n+1 346 248 7799 US (Houston)\n+1 669 900 9128 US (San Jose)\n+1 301 715 8592 US (Washington DC)\n+1 312 626 6799 US (Chicago)\n+1 646 558 8656 US (New York)\nMeeting ID: 895 6111 8750\nFind your local number: https://us02web.zoom.us/u/kgDr1yGWt \n 
URL:https://naacpdenver.org/event/monthly-membership-meeting-2027-06-24/
END:VEVENT
BEGIN:VEVENT
DTSTART;TZID=UTC:20270710T110000
DTEND;TZID=UTC:20270710T123000
DTSTAMP:20260419T193336
CREATED:20210614T030759Z
LAST-MODIFIED:20210614T030759Z
UID:4377-1815217200-1815222600@naacpdenver.org
SUMMARY:Monthly Community Meeting
DESCRIPTION:NAACP Denver Branch hosts monthly meetings open to the public.  These meetings will address topics that affect communities of color in the City of Denver\, the State of Colorado and the Nation. \nTopic: Monthly Community Meeting\nTime: This is a recurring meeting Meet anytime \nJoin Zoom Meeting\nhttps://us02web.zoom.us/j/87864344222 \nMeeting ID: 878 6434 4222\nOne tap mobile\n+13462487799\,\,87864344222# US (Houston)\n+16699009128\,\,87864344222# US (San Jose) \nDial by your location\n+1 346 248 7799 US (Houston)\n+1 669 900 9128 US (San Jose)\n+1 253 215 8782 US (Tacoma)\n+1 312 626 6799 US (Chicago)\n+1 646 558 8656 US (New York)\n+1 301 715 8592 US (Washington DC)\nMeeting ID: 878 6434 4222\nFind your local number: https://us02web.zoom.us/u/kdKbmJV2D \n 
URL:https://naacpdenver.org/event/monthly-community-meeting-2027-07-10/
END:VEVENT
BEGIN:VEVENT
DTSTART;TZID=UTC:20270712T170000
DTEND;TZID=UTC:20270712T180000
DTSTAMP:20260419T193336
CREATED:20210614T032703Z
LAST-MODIFIED:20210614T032703Z
UID:4378-1815411600-1815415200@naacpdenver.org
SUMMARY:Education Committee
DESCRIPTION:2nd Monday of each month \nhttps://us02web.zoom.us/j/86038377903 \n 
URL:https://naacpdenver.org/event/education-committee-2027-07-12/
END:VEVENT
BEGIN:VEVENT
DTSTART;TZID=UTC:20270722T190000
DTEND;TZID=UTC:20270722T200000
DTSTAMP:20260419T193336
CREATED:20210614T025028Z
LAST-MODIFIED:20210614T025028Z
UID:4379-1816282800-1816286400@naacpdenver.org
SUMMARY:Monthly Membership Meeting
DESCRIPTION:The Monthly Membership Meeting for the Denver Branch of the NAACP will take place on the 4th Thursday of each month via zoom (Holidays Excluded) \nTopic: Monthly Membership Meeting\nTime: This is a recurring meeting Meet anytime \nJoin Zoom Meeting\nhttps://us02web.zoom.us/j/89561118750 \nMeeting ID: 895 6111 8750\nOne tap mobile\n+12532158782\,\,89561118750# US (Tacoma)\n+13462487799\,\,89561118750# US (Houston) \nDial by your location\n+1 253 215 8782 US (Tacoma)\n+1 346 248 7799 US (Houston)\n+1 669 900 9128 US (San Jose)\n+1 301 715 8592 US (Washington DC)\n+1 312 626 6799 US (Chicago)\n+1 646 558 8656 US (New York)\nMeeting ID: 895 6111 8750\nFind your local number: https://us02web.zoom.us/u/kgDr1yGWt \n 
URL:https://naacpdenver.org/event/monthly-membership-meeting-2027-07-22/
END:VEVENT
BEGIN:VEVENT
DTSTART;TZID=UTC:20270809T170000
DTEND;TZID=UTC:20270809T180000
DTSTAMP:20260419T193336
CREATED:20210614T032703Z
LAST-MODIFIED:20210614T032703Z
UID:4380-1817830800-1817834400@naacpdenver.org
SUMMARY:Education Committee
DESCRIPTION:2nd Monday of each month \nhttps://us02web.zoom.us/j/86038377903 \n 
URL:https://naacpdenver.org/event/education-committee-2027-08-09/
END:VEVENT
BEGIN:VEVENT
DTSTART;TZID=UTC:20270814T110000
DTEND;TZID=UTC:20270814T123000
DTSTAMP:20260419T193336
CREATED:20210614T030759Z
LAST-MODIFIED:20210614T030759Z
UID:4381-1818241200-1818246600@naacpdenver.org
SUMMARY:Monthly Community Meeting
DESCRIPTION:NAACP Denver Branch hosts monthly meetings open to the public.  These meetings will address topics that affect communities of color in the City of Denver\, the State of Colorado and the Nation. \nTopic: Monthly Community Meeting\nTime: This is a recurring meeting Meet anytime \nJoin Zoom Meeting\nhttps://us02web.zoom.us/j/87864344222 \nMeeting ID: 878 6434 4222\nOne tap mobile\n+13462487799\,\,87864344222# US (Houston)\n+16699009128\,\,87864344222# US (San Jose) \nDial by your location\n+1 346 248 7799 US (Houston)\n+1 669 900 9128 US (San Jose)\n+1 253 215 8782 US (Tacoma)\n+1 312 626 6799 US (Chicago)\n+1 646 558 8656 US (New York)\n+1 301 715 8592 US (Washington DC)\nMeeting ID: 878 6434 4222\nFind your local number: https://us02web.zoom.us/u/kdKbmJV2D \n 
URL:https://naacpdenver.org/event/monthly-community-meeting-2027-08-14/
END:VEVENT
BEGIN:VEVENT
DTSTART;TZID=UTC:20270826T190000
DTEND;TZID=UTC:20270826T200000
DTSTAMP:20260419T193336
CREATED:20210614T025028Z
LAST-MODIFIED:20210614T025028Z
UID:4382-1819306800-1819310400@naacpdenver.org
SUMMARY:Monthly Membership Meeting
DESCRIPTION:The Monthly Membership Meeting for the Denver Branch of the NAACP will take place on the 4th Thursday of each month via zoom (Holidays Excluded) \nTopic: Monthly Membership Meeting\nTime: This is a recurring meeting Meet anytime \nJoin Zoom Meeting\nhttps://us02web.zoom.us/j/89561118750 \nMeeting ID: 895 6111 8750\nOne tap mobile\n+12532158782\,\,89561118750# US (Tacoma)\n+13462487799\,\,89561118750# US (Houston) \nDial by your location\n+1 253 215 8782 US (Tacoma)\n+1 346 248 7799 US (Houston)\n+1 669 900 9128 US (San Jose)\n+1 301 715 8592 US (Washington DC)\n+1 312 626 6799 US (Chicago)\n+1 646 558 8656 US (New York)\nMeeting ID: 895 6111 8750\nFind your local number: https://us02web.zoom.us/u/kgDr1yGWt \n 
URL:https://naacpdenver.org/event/monthly-membership-meeting-2027-08-26/
END:VEVENT
END:VCALENDAR