BEGIN:VCALENDAR
VERSION:2.0
PRODID:-//NAACP Denver - ECPv6.15.20//NONSGML v1.0//EN
CALSCALE:GREGORIAN
METHOD:PUBLISH
X-ORIGINAL-URL:https://naacpdenver.org
X-WR-CALDESC:Events for NAACP Denver
REFRESH-INTERVAL;VALUE=DURATION:PT1H
X-Robots-Tag:noindex
X-PUBLISHED-TTL:PT1H
BEGIN:VTIMEZONE
TZID:UTC
BEGIN:STANDARD
TZOFFSETFROM:+0000
TZOFFSETTO:+0000
TZNAME:UTC
DTSTART:20260101T000000
END:STANDARD
END:VTIMEZONE
BEGIN:VEVENT
DTSTART;TZID=UTC:20270826T190000
DTEND;TZID=UTC:20270826T200000
DTSTAMP:20260419T191255
CREATED:20210614T025028Z
LAST-MODIFIED:20210614T025028Z
UID:4382-1819306800-1819310400@naacpdenver.org
SUMMARY:Monthly Membership Meeting
DESCRIPTION:The Monthly Membership Meeting for the Denver Branch of the NAACP will take place on the 4th Thursday of each month via zoom (Holidays Excluded) \nTopic: Monthly Membership Meeting\nTime: This is a recurring meeting Meet anytime \nJoin Zoom Meeting\nhttps://us02web.zoom.us/j/89561118750 \nMeeting ID: 895 6111 8750\nOne tap mobile\n+12532158782\,\,89561118750# US (Tacoma)\n+13462487799\,\,89561118750# US (Houston) \nDial by your location\n+1 253 215 8782 US (Tacoma)\n+1 346 248 7799 US (Houston)\n+1 669 900 9128 US (San Jose)\n+1 301 715 8592 US (Washington DC)\n+1 312 626 6799 US (Chicago)\n+1 646 558 8656 US (New York)\nMeeting ID: 895 6111 8750\nFind your local number: https://us02web.zoom.us/u/kgDr1yGWt \n 
URL:https://naacpdenver.org/event/monthly-membership-meeting-2027-08-26/
END:VEVENT
BEGIN:VEVENT
DTSTART;TZID=UTC:20270911T110000
DTEND;TZID=UTC:20270911T123000
DTSTAMP:20260419T191255
CREATED:20210614T030759Z
LAST-MODIFIED:20210614T030759Z
UID:4383-1820660400-1820665800@naacpdenver.org
SUMMARY:Monthly Community Meeting
DESCRIPTION:NAACP Denver Branch hosts monthly meetings open to the public.  These meetings will address topics that affect communities of color in the City of Denver\, the State of Colorado and the Nation. \nTopic: Monthly Community Meeting\nTime: This is a recurring meeting Meet anytime \nJoin Zoom Meeting\nhttps://us02web.zoom.us/j/87864344222 \nMeeting ID: 878 6434 4222\nOne tap mobile\n+13462487799\,\,87864344222# US (Houston)\n+16699009128\,\,87864344222# US (San Jose) \nDial by your location\n+1 346 248 7799 US (Houston)\n+1 669 900 9128 US (San Jose)\n+1 253 215 8782 US (Tacoma)\n+1 312 626 6799 US (Chicago)\n+1 646 558 8656 US (New York)\n+1 301 715 8592 US (Washington DC)\nMeeting ID: 878 6434 4222\nFind your local number: https://us02web.zoom.us/u/kdKbmJV2D \n 
URL:https://naacpdenver.org/event/monthly-community-meeting-2027-09-11/
END:VEVENT
BEGIN:VEVENT
DTSTART;TZID=UTC:20270913T170000
DTEND;TZID=UTC:20270913T180000
DTSTAMP:20260419T191255
CREATED:20210614T032703Z
LAST-MODIFIED:20210614T032703Z
UID:4384-1820854800-1820858400@naacpdenver.org
SUMMARY:Education Committee
DESCRIPTION:2nd Monday of each month \nhttps://us02web.zoom.us/j/86038377903 \n 
URL:https://naacpdenver.org/event/education-committee-2027-09-13/
END:VEVENT
BEGIN:VEVENT
DTSTART;TZID=UTC:20270923T190000
DTEND;TZID=UTC:20270923T200000
DTSTAMP:20260419T191255
CREATED:20210614T025028Z
LAST-MODIFIED:20210614T025028Z
UID:4385-1821726000-1821729600@naacpdenver.org
SUMMARY:Monthly Membership Meeting
DESCRIPTION:The Monthly Membership Meeting for the Denver Branch of the NAACP will take place on the 4th Thursday of each month via zoom (Holidays Excluded) \nTopic: Monthly Membership Meeting\nTime: This is a recurring meeting Meet anytime \nJoin Zoom Meeting\nhttps://us02web.zoom.us/j/89561118750 \nMeeting ID: 895 6111 8750\nOne tap mobile\n+12532158782\,\,89561118750# US (Tacoma)\n+13462487799\,\,89561118750# US (Houston) \nDial by your location\n+1 253 215 8782 US (Tacoma)\n+1 346 248 7799 US (Houston)\n+1 669 900 9128 US (San Jose)\n+1 301 715 8592 US (Washington DC)\n+1 312 626 6799 US (Chicago)\n+1 646 558 8656 US (New York)\nMeeting ID: 895 6111 8750\nFind your local number: https://us02web.zoom.us/u/kgDr1yGWt \n 
URL:https://naacpdenver.org/event/monthly-membership-meeting-2027-09-23/
END:VEVENT
BEGIN:VEVENT
DTSTART;TZID=UTC:20271009T110000
DTEND;TZID=UTC:20271009T123000
DTSTAMP:20260419T191255
CREATED:20210614T030759Z
LAST-MODIFIED:20210614T030759Z
UID:4386-1823079600-1823085000@naacpdenver.org
SUMMARY:Monthly Community Meeting
DESCRIPTION:NAACP Denver Branch hosts monthly meetings open to the public.  These meetings will address topics that affect communities of color in the City of Denver\, the State of Colorado and the Nation. \nTopic: Monthly Community Meeting\nTime: This is a recurring meeting Meet anytime \nJoin Zoom Meeting\nhttps://us02web.zoom.us/j/87864344222 \nMeeting ID: 878 6434 4222\nOne tap mobile\n+13462487799\,\,87864344222# US (Houston)\n+16699009128\,\,87864344222# US (San Jose) \nDial by your location\n+1 346 248 7799 US (Houston)\n+1 669 900 9128 US (San Jose)\n+1 253 215 8782 US (Tacoma)\n+1 312 626 6799 US (Chicago)\n+1 646 558 8656 US (New York)\n+1 301 715 8592 US (Washington DC)\nMeeting ID: 878 6434 4222\nFind your local number: https://us02web.zoom.us/u/kdKbmJV2D \n 
URL:https://naacpdenver.org/event/monthly-community-meeting-2027-10-09/
END:VEVENT
BEGIN:VEVENT
DTSTART;TZID=UTC:20271011T170000
DTEND;TZID=UTC:20271011T180000
DTSTAMP:20260419T191255
CREATED:20210614T032703Z
LAST-MODIFIED:20210614T032703Z
UID:4387-1823274000-1823277600@naacpdenver.org
SUMMARY:Education Committee
DESCRIPTION:2nd Monday of each month \nhttps://us02web.zoom.us/j/86038377903 \n 
URL:https://naacpdenver.org/event/education-committee-2027-10-11/
END:VEVENT
BEGIN:VEVENT
DTSTART;TZID=UTC:20271028T190000
DTEND;TZID=UTC:20271028T200000
DTSTAMP:20260419T191255
CREATED:20210614T025028Z
LAST-MODIFIED:20210614T025028Z
UID:4388-1824750000-1824753600@naacpdenver.org
SUMMARY:Monthly Membership Meeting
DESCRIPTION:The Monthly Membership Meeting for the Denver Branch of the NAACP will take place on the 4th Thursday of each month via zoom (Holidays Excluded) \nTopic: Monthly Membership Meeting\nTime: This is a recurring meeting Meet anytime \nJoin Zoom Meeting\nhttps://us02web.zoom.us/j/89561118750 \nMeeting ID: 895 6111 8750\nOne tap mobile\n+12532158782\,\,89561118750# US (Tacoma)\n+13462487799\,\,89561118750# US (Houston) \nDial by your location\n+1 253 215 8782 US (Tacoma)\n+1 346 248 7799 US (Houston)\n+1 669 900 9128 US (San Jose)\n+1 301 715 8592 US (Washington DC)\n+1 312 626 6799 US (Chicago)\n+1 646 558 8656 US (New York)\nMeeting ID: 895 6111 8750\nFind your local number: https://us02web.zoom.us/u/kgDr1yGWt \n 
URL:https://naacpdenver.org/event/monthly-membership-meeting-2027-10-28/
END:VEVENT
BEGIN:VEVENT
DTSTART;TZID=UTC:20271108T170000
DTEND;TZID=UTC:20271108T180000
DTSTAMP:20260419T191255
CREATED:20210614T032703Z
LAST-MODIFIED:20210614T032703Z
UID:4389-1825693200-1825696800@naacpdenver.org
SUMMARY:Education Committee
DESCRIPTION:2nd Monday of each month \nhttps://us02web.zoom.us/j/86038377903 \n 
URL:https://naacpdenver.org/event/education-committee-2027-11-08/
END:VEVENT
BEGIN:VEVENT
DTSTART;TZID=UTC:20271113T110000
DTEND;TZID=UTC:20271113T123000
DTSTAMP:20260419T191255
CREATED:20210614T030759Z
LAST-MODIFIED:20210614T030759Z
UID:4390-1826103600-1826109000@naacpdenver.org
SUMMARY:Monthly Community Meeting
DESCRIPTION:NAACP Denver Branch hosts monthly meetings open to the public.  These meetings will address topics that affect communities of color in the City of Denver\, the State of Colorado and the Nation. \nTopic: Monthly Community Meeting\nTime: This is a recurring meeting Meet anytime \nJoin Zoom Meeting\nhttps://us02web.zoom.us/j/87864344222 \nMeeting ID: 878 6434 4222\nOne tap mobile\n+13462487799\,\,87864344222# US (Houston)\n+16699009128\,\,87864344222# US (San Jose) \nDial by your location\n+1 346 248 7799 US (Houston)\n+1 669 900 9128 US (San Jose)\n+1 253 215 8782 US (Tacoma)\n+1 312 626 6799 US (Chicago)\n+1 646 558 8656 US (New York)\n+1 301 715 8592 US (Washington DC)\nMeeting ID: 878 6434 4222\nFind your local number: https://us02web.zoom.us/u/kdKbmJV2D \n 
URL:https://naacpdenver.org/event/monthly-community-meeting-2027-11-13/
END:VEVENT
BEGIN:VEVENT
DTSTART;TZID=UTC:20271125T190000
DTEND;TZID=UTC:20271125T200000
DTSTAMP:20260419T191255
CREATED:20210614T025028Z
LAST-MODIFIED:20210614T025028Z
UID:4391-1827169200-1827172800@naacpdenver.org
SUMMARY:Monthly Membership Meeting
DESCRIPTION:The Monthly Membership Meeting for the Denver Branch of the NAACP will take place on the 4th Thursday of each month via zoom (Holidays Excluded) \nTopic: Monthly Membership Meeting\nTime: This is a recurring meeting Meet anytime \nJoin Zoom Meeting\nhttps://us02web.zoom.us/j/89561118750 \nMeeting ID: 895 6111 8750\nOne tap mobile\n+12532158782\,\,89561118750# US (Tacoma)\n+13462487799\,\,89561118750# US (Houston) \nDial by your location\n+1 253 215 8782 US (Tacoma)\n+1 346 248 7799 US (Houston)\n+1 669 900 9128 US (San Jose)\n+1 301 715 8592 US (Washington DC)\n+1 312 626 6799 US (Chicago)\n+1 646 558 8656 US (New York)\nMeeting ID: 895 6111 8750\nFind your local number: https://us02web.zoom.us/u/kgDr1yGWt \n 
URL:https://naacpdenver.org/event/monthly-membership-meeting-2027-11-25/
END:VEVENT
BEGIN:VEVENT
DTSTART;TZID=UTC:20271211T110000
DTEND;TZID=UTC:20271211T123000
DTSTAMP:20260419T191255
CREATED:20210614T030759Z
LAST-MODIFIED:20210614T030759Z
UID:4392-1828522800-1828528200@naacpdenver.org
SUMMARY:Monthly Community Meeting
DESCRIPTION:NAACP Denver Branch hosts monthly meetings open to the public.  These meetings will address topics that affect communities of color in the City of Denver\, the State of Colorado and the Nation. \nTopic: Monthly Community Meeting\nTime: This is a recurring meeting Meet anytime \nJoin Zoom Meeting\nhttps://us02web.zoom.us/j/87864344222 \nMeeting ID: 878 6434 4222\nOne tap mobile\n+13462487799\,\,87864344222# US (Houston)\n+16699009128\,\,87864344222# US (San Jose) \nDial by your location\n+1 346 248 7799 US (Houston)\n+1 669 900 9128 US (San Jose)\n+1 253 215 8782 US (Tacoma)\n+1 312 626 6799 US (Chicago)\n+1 646 558 8656 US (New York)\n+1 301 715 8592 US (Washington DC)\nMeeting ID: 878 6434 4222\nFind your local number: https://us02web.zoom.us/u/kdKbmJV2D \n 
URL:https://naacpdenver.org/event/monthly-community-meeting-2027-12-11/
END:VEVENT
BEGIN:VEVENT
DTSTART;TZID=UTC:20271213T170000
DTEND;TZID=UTC:20271213T180000
DTSTAMP:20260419T191255
CREATED:20210614T032703Z
LAST-MODIFIED:20210614T032703Z
UID:4393-1828717200-1828720800@naacpdenver.org
SUMMARY:Education Committee
DESCRIPTION:2nd Monday of each month \nhttps://us02web.zoom.us/j/86038377903 \n 
URL:https://naacpdenver.org/event/education-committee-2027-12-13/
END:VEVENT
BEGIN:VEVENT
DTSTART;TZID=UTC:20271223T190000
DTEND;TZID=UTC:20271223T200000
DTSTAMP:20260419T191255
CREATED:20210614T025028Z
LAST-MODIFIED:20210614T025028Z
UID:4398-1829588400-1829592000@naacpdenver.org
SUMMARY:Monthly Membership Meeting
DESCRIPTION:The Monthly Membership Meeting for the Denver Branch of the NAACP will take place on the 4th Thursday of each month via zoom (Holidays Excluded) \nTopic: Monthly Membership Meeting\nTime: This is a recurring meeting Meet anytime \nJoin Zoom Meeting\nhttps://us02web.zoom.us/j/89561118750 \nMeeting ID: 895 6111 8750\nOne tap mobile\n+12532158782\,\,89561118750# US (Tacoma)\n+13462487799\,\,89561118750# US (Houston) \nDial by your location\n+1 253 215 8782 US (Tacoma)\n+1 346 248 7799 US (Houston)\n+1 669 900 9128 US (San Jose)\n+1 301 715 8592 US (Washington DC)\n+1 312 626 6799 US (Chicago)\n+1 646 558 8656 US (New York)\nMeeting ID: 895 6111 8750\nFind your local number: https://us02web.zoom.us/u/kgDr1yGWt \n 
URL:https://naacpdenver.org/event/monthly-membership-meeting-2027-12-23/
END:VEVENT
BEGIN:VEVENT
DTSTART;TZID=UTC:20280108T110000
DTEND;TZID=UTC:20280108T123000
DTSTAMP:20260419T191255
CREATED:20210614T030759Z
LAST-MODIFIED:20210614T030759Z
UID:4399-1830942000-1830947400@naacpdenver.org
SUMMARY:Monthly Community Meeting
DESCRIPTION:NAACP Denver Branch hosts monthly meetings open to the public.  These meetings will address topics that affect communities of color in the City of Denver\, the State of Colorado and the Nation. \nTopic: Monthly Community Meeting\nTime: This is a recurring meeting Meet anytime \nJoin Zoom Meeting\nhttps://us02web.zoom.us/j/87864344222 \nMeeting ID: 878 6434 4222\nOne tap mobile\n+13462487799\,\,87864344222# US (Houston)\n+16699009128\,\,87864344222# US (San Jose) \nDial by your location\n+1 346 248 7799 US (Houston)\n+1 669 900 9128 US (San Jose)\n+1 253 215 8782 US (Tacoma)\n+1 312 626 6799 US (Chicago)\n+1 646 558 8656 US (New York)\n+1 301 715 8592 US (Washington DC)\nMeeting ID: 878 6434 4222\nFind your local number: https://us02web.zoom.us/u/kdKbmJV2D \n 
URL:https://naacpdenver.org/event/monthly-community-meeting-2028-01-08/
END:VEVENT
BEGIN:VEVENT
DTSTART;TZID=UTC:20280110T170000
DTEND;TZID=UTC:20280110T180000
DTSTAMP:20260419T191255
CREATED:20210614T032703Z
LAST-MODIFIED:20210614T032703Z
UID:4400-1831136400-1831140000@naacpdenver.org
SUMMARY:Education Committee
DESCRIPTION:2nd Monday of each month \nhttps://us02web.zoom.us/j/86038377903 \n 
URL:https://naacpdenver.org/event/education-committee-2028-01-10/
END:VEVENT
END:VCALENDAR