BEGIN:VCALENDAR
VERSION:2.0
PRODID:-//NAACP Denver - ECPv6.15.20//NONSGML v1.0//EN
CALSCALE:GREGORIAN
METHOD:PUBLISH
X-WR-CALNAME:NAACP Denver
X-ORIGINAL-URL:https://naacpdenver.org
X-WR-CALDESC:Events for NAACP Denver
REFRESH-INTERVAL;VALUE=DURATION:PT1H
X-Robots-Tag:noindex
X-PUBLISHED-TTL:PT1H
BEGIN:VTIMEZONE
TZID:UTC
BEGIN:STANDARD
TZOFFSETFROM:+0000
TZOFFSETTO:+0000
TZNAME:UTC
DTSTART:20230101T000000
END:STANDARD
END:VTIMEZONE
BEGIN:VTIMEZONE
TZID:America/Denver
BEGIN:DAYLIGHT
TZOFFSETFROM:-0700
TZOFFSETTO:-0600
TZNAME:MDT
DTSTART:20230312T090000
END:DAYLIGHT
BEGIN:STANDARD
TZOFFSETFROM:-0600
TZOFFSETTO:-0700
TZNAME:MST
DTSTART:20231105T080000
END:STANDARD
BEGIN:DAYLIGHT
TZOFFSETFROM:-0700
TZOFFSETTO:-0600
TZNAME:MDT
DTSTART:20240310T090000
END:DAYLIGHT
BEGIN:STANDARD
TZOFFSETFROM:-0600
TZOFFSETTO:-0700
TZNAME:MST
DTSTART:20241103T080000
END:STANDARD
BEGIN:DAYLIGHT
TZOFFSETFROM:-0700
TZOFFSETTO:-0600
TZNAME:MDT
DTSTART:20250309T090000
END:DAYLIGHT
BEGIN:STANDARD
TZOFFSETFROM:-0600
TZOFFSETTO:-0700
TZNAME:MST
DTSTART:20251102T080000
END:STANDARD
END:VTIMEZONE
BEGIN:VEVENT
DTSTART;TZID=UTC:20240720T120000
DTEND;TZID=UTC:20240720T150000
DTSTAMP:20260420T074348
CREATED:20250124T095613Z
LAST-MODIFIED:20250124T095613Z
UID:4299-1721476800-1721487600@naacpdenver.org
SUMMARY:60 Years of Civil Rights: A Community Mixtape Celebration
DESCRIPTION:  \nCome celebrate 60 years of Civil Rights with RTD and their community partners\, Denver NAACP\, ACLU Colorado\, Servicios de La Raza\, One Colorado\, Colorado Asian Pacific United\, Atlantis Community\, Inc.\, on July 20th from 12:00 PM! \nThis event will feature an array of activities\, including music\, food\, spoken word performances\, poetry\, guest speakers\, and community acts. It aims to pay homage to the courageous legislation and honor the intersectionalities of social justice movements both locally and nationally. \n Let’s come together to honor our collective efforts and continue the important work of advancing social justice. \nWe look forward to seeing you there!
URL:https://naacpdenver.org/event/60-years-of-civil-rights-a-community-mixtape-celebration/
END:VEVENT
BEGIN:VEVENT
DTSTART;TZID=UTC:20240713T110000
DTEND;TZID=UTC:20240713T123000
DTSTAMP:20260420T074348
CREATED:20210614T030759Z
LAST-MODIFIED:20210614T030759Z
UID:3473-1720868400-1720873800@naacpdenver.org
SUMMARY:Monthly Community Meeting
DESCRIPTION:NAACP Denver Branch hosts monthly meetings open to the public.  These meetings will address topics that affect communities of color in the City of Denver\, the State of Colorado and the Nation. \nTopic: Monthly Community Meeting\nTime: This is a recurring meeting Meet anytime \nJoin Zoom Meeting\nhttps://us02web.zoom.us/j/87864344222 \nMeeting ID: 878 6434 4222\nOne tap mobile\n+13462487799\,\,87864344222# US (Houston)\n+16699009128\,\,87864344222# US (San Jose) \nDial by your location\n+1 346 248 7799 US (Houston)\n+1 669 900 9128 US (San Jose)\n+1 253 215 8782 US (Tacoma)\n+1 312 626 6799 US (Chicago)\n+1 646 558 8656 US (New York)\n+1 301 715 8592 US (Washington DC)\nMeeting ID: 878 6434 4222\nFind your local number: https://us02web.zoom.us/u/kdKbmJV2D \n 
URL:https://naacpdenver.org/event/monthly-community-meeting-2024-07-13/
END:VEVENT
BEGIN:VEVENT
DTSTART;TZID=UTC:20240709T180000
DTEND;TZID=UTC:20240709T190000
DTSTAMP:20260420T074348
CREATED:20210614T032227Z
LAST-MODIFIED:20210614T032227Z
UID:3472-1720548000-1720551600@naacpdenver.org
SUMMARY:Communications & Community Engagement Committee Meeting
DESCRIPTION:Join Zoom Meeting\nhttps://us02web.zoom.us/j/85918936616?pwd=YTNJemxiTmJMZjhaaElBZjdjN2FzZz09 \nMeeting ID: 859 1893 6616\n \nPasscode: Community
URL:https://naacpdenver.org/event/communications-press-and-publicity-committee-meeting-2024-07-09/
END:VEVENT
BEGIN:VEVENT
DTSTART;TZID=UTC:20240708T170000
DTEND;TZID=UTC:20240708T180000
DTSTAMP:20260420T074349
CREATED:20210614T032703Z
LAST-MODIFIED:20240206T214140Z
UID:3471-1720458000-1720461600@naacpdenver.org
SUMMARY:Education Committee
DESCRIPTION:2nd Monday of each month \nhttps://us02web.zoom.us/j/86038377903 \n 
URL:https://naacpdenver.org/event/education-committee-2024-07-08/
END:VEVENT
BEGIN:VEVENT
DTSTART;TZID=UTC:20240627T190000
DTEND;TZID=UTC:20240627T200000
DTSTAMP:20260420T074349
CREATED:20210614T025028Z
LAST-MODIFIED:20210614T025028Z
UID:3454-1719514800-1719518400@naacpdenver.org
SUMMARY:Monthly Membership Meeting
DESCRIPTION:The Monthly Membership Meeting for the Denver Branch of the NAACP will take place on the 4th Thursday of each month via zoom (Holidays Excluded) \nTopic: Monthly Membership Meeting\nTime: This is a recurring meeting Meet anytime \nJoin Zoom Meeting\nhttps://us02web.zoom.us/j/89561118750 \nMeeting ID: 895 6111 8750\nOne tap mobile\n+12532158782\,\,89561118750# US (Tacoma)\n+13462487799\,\,89561118750# US (Houston) \nDial by your location\n+1 253 215 8782 US (Tacoma)\n+1 346 248 7799 US (Houston)\n+1 669 900 9128 US (San Jose)\n+1 301 715 8592 US (Washington DC)\n+1 312 626 6799 US (Chicago)\n+1 646 558 8656 US (New York)\nMeeting ID: 895 6111 8750\nFind your local number: https://us02web.zoom.us/u/kgDr1yGWt \n 
URL:https://naacpdenver.org/event/monthly-membership-meeting-2024-06-27/
END:VEVENT
BEGIN:VEVENT
DTSTART;TZID=UTC:20240615T093000
DTEND;TZID=UTC:20240615T170000
DTSTAMP:20260420T074349
CREATED:20250124T095751Z
LAST-MODIFIED:20250124T095751Z
UID:4303-1718443800-1718470800@naacpdenver.org
SUMMARY:Juneteenth with Denver NAACP
DESCRIPTION:How will you be celebrating Juneteenth? Kick off your Saturday morning on June 15th by joining us for the Juneteenth Parade! Keep an eye out for our banner and come march with us.\nWe’d love to see you there!
URL:https://naacpdenver.org/event/juneteenth-with-denver-naacp/
END:VEVENT
BEGIN:VEVENT
DTSTART;TZID=UTC:20240611T180000
DTEND;TZID=UTC:20240611T190000
DTSTAMP:20260420T074349
CREATED:20210614T032227Z
LAST-MODIFIED:20210614T032227Z
UID:3329-1718128800-1718132400@naacpdenver.org
SUMMARY:Communications & Community Engagement Committee Meeting
DESCRIPTION:Join Zoom Meeting\nhttps://us02web.zoom.us/j/85918936616?pwd=YTNJemxiTmJMZjhaaElBZjdjN2FzZz09 \nMeeting ID: 859 1893 6616\n \nPasscode: Community
URL:https://naacpdenver.org/event/communications-press-and-publicity-committee-meeting-2024-06-11/
END:VEVENT
BEGIN:VEVENT
DTSTART;TZID=UTC:20240610T170000
DTEND;TZID=UTC:20240610T180000
DTSTAMP:20260420T074349
CREATED:20210614T032703Z
LAST-MODIFIED:20240206T214139Z
UID:3328-1718038800-1718042400@naacpdenver.org
SUMMARY:Education Committee
DESCRIPTION:2nd Monday of each month \nhttps://us02web.zoom.us/j/86038377903 \n 
URL:https://naacpdenver.org/event/education-committee-2024-06-10/
END:VEVENT
BEGIN:VEVENT
DTSTART;TZID=UTC:20240608T110000
DTEND;TZID=UTC:20240608T123000
DTSTAMP:20260420T074349
CREATED:20210614T030759Z
LAST-MODIFIED:20210614T030759Z
UID:3327-1717844400-1717849800@naacpdenver.org
SUMMARY:Monthly Community Meeting
DESCRIPTION:NAACP Denver Branch hosts monthly meetings open to the public.  These meetings will address topics that affect communities of color in the City of Denver\, the State of Colorado and the Nation. \nTopic: Monthly Community Meeting\nTime: This is a recurring meeting Meet anytime \nJoin Zoom Meeting\nhttps://us02web.zoom.us/j/87864344222 \nMeeting ID: 878 6434 4222\nOne tap mobile\n+13462487799\,\,87864344222# US (Houston)\n+16699009128\,\,87864344222# US (San Jose) \nDial by your location\n+1 346 248 7799 US (Houston)\n+1 669 900 9128 US (San Jose)\n+1 253 215 8782 US (Tacoma)\n+1 312 626 6799 US (Chicago)\n+1 646 558 8656 US (New York)\n+1 301 715 8592 US (Washington DC)\nMeeting ID: 878 6434 4222\nFind your local number: https://us02web.zoom.us/u/kdKbmJV2D \n 
URL:https://naacpdenver.org/event/monthly-community-meeting-2024-06-08/
END:VEVENT
BEGIN:VEVENT
DTSTART;TZID=UTC:20240523T190000
DTEND;TZID=UTC:20240523T200000
DTSTAMP:20260420T074349
CREATED:20210614T025028Z
LAST-MODIFIED:20210614T025028Z
UID:3325-1716490800-1716494400@naacpdenver.org
SUMMARY:Monthly Membership Meeting
DESCRIPTION:The Monthly Membership Meeting for the Denver Branch of the NAACP will take place on the 4th Thursday of each month via zoom (Holidays Excluded) \nTopic: Monthly Membership Meeting\nTime: This is a recurring meeting Meet anytime \nJoin Zoom Meeting\nhttps://us02web.zoom.us/j/89561118750 \nMeeting ID: 895 6111 8750\nOne tap mobile\n+12532158782\,\,89561118750# US (Tacoma)\n+13462487799\,\,89561118750# US (Houston) \nDial by your location\n+1 253 215 8782 US (Tacoma)\n+1 346 248 7799 US (Houston)\n+1 669 900 9128 US (San Jose)\n+1 301 715 8592 US (Washington DC)\n+1 312 626 6799 US (Chicago)\n+1 646 558 8656 US (New York)\nMeeting ID: 895 6111 8750\nFind your local number: https://us02web.zoom.us/u/kgDr1yGWt \n 
URL:https://naacpdenver.org/event/monthly-membership-meeting-2024-05-23/
END:VEVENT
BEGIN:VEVENT
DTSTART;TZID=UTC:20240514T180000
DTEND;TZID=UTC:20240514T190000
DTSTAMP:20260420T074349
CREATED:20210614T032227Z
LAST-MODIFIED:20210614T032227Z
UID:3323-1715709600-1715713200@naacpdenver.org
SUMMARY:Communications & Community Engagement Committee Meeting
DESCRIPTION:Join Zoom Meeting\nhttps://us02web.zoom.us/j/85918936616?pwd=YTNJemxiTmJMZjhaaElBZjdjN2FzZz09 \nMeeting ID: 859 1893 6616\n \nPasscode: Community
URL:https://naacpdenver.org/event/communications-press-and-publicity-committee-meeting-2024-05-14/
END:VEVENT
BEGIN:VEVENT
DTSTART;TZID=UTC:20240513T170000
DTEND;TZID=UTC:20240513T180000
DTSTAMP:20260420T074349
CREATED:20210614T032703Z
LAST-MODIFIED:20240206T214138Z
UID:3322-1715619600-1715623200@naacpdenver.org
SUMMARY:Education Committee
DESCRIPTION:2nd Monday of each month \nhttps://us02web.zoom.us/j/86038377903 \n 
URL:https://naacpdenver.org/event/education-committee-2024-05-13/
END:VEVENT
BEGIN:VEVENT
DTSTART;TZID=UTC:20240511T110000
DTEND;TZID=UTC:20240511T123000
DTSTAMP:20260420T074349
CREATED:20210614T030759Z
LAST-MODIFIED:20210614T030759Z
UID:3321-1715425200-1715430600@naacpdenver.org
SUMMARY:Monthly Community Meeting
DESCRIPTION:NAACP Denver Branch hosts monthly meetings open to the public.  These meetings will address topics that affect communities of color in the City of Denver\, the State of Colorado and the Nation. \nTopic: Monthly Community Meeting\nTime: This is a recurring meeting Meet anytime \nJoin Zoom Meeting\nhttps://us02web.zoom.us/j/87864344222 \nMeeting ID: 878 6434 4222\nOne tap mobile\n+13462487799\,\,87864344222# US (Houston)\n+16699009128\,\,87864344222# US (San Jose) \nDial by your location\n+1 346 248 7799 US (Houston)\n+1 669 900 9128 US (San Jose)\n+1 253 215 8782 US (Tacoma)\n+1 312 626 6799 US (Chicago)\n+1 646 558 8656 US (New York)\n+1 301 715 8592 US (Washington DC)\nMeeting ID: 878 6434 4222\nFind your local number: https://us02web.zoom.us/u/kdKbmJV2D \n 
URL:https://naacpdenver.org/event/monthly-community-meeting-2024-05-11/
END:VEVENT
BEGIN:VEVENT
DTSTART;TZID=UTC:20240425T190000
DTEND;TZID=UTC:20240425T200000
DTSTAMP:20260420T074349
CREATED:20210614T025028Z
LAST-MODIFIED:20210614T025028Z
UID:3313-1714071600-1714075200@naacpdenver.org
SUMMARY:Monthly Membership Meeting
DESCRIPTION:The Monthly Membership Meeting for the Denver Branch of the NAACP will take place on the 4th Thursday of each month via zoom (Holidays Excluded) \nTopic: Monthly Membership Meeting\nTime: This is a recurring meeting Meet anytime \nJoin Zoom Meeting\nhttps://us02web.zoom.us/j/89561118750 \nMeeting ID: 895 6111 8750\nOne tap mobile\n+12532158782\,\,89561118750# US (Tacoma)\n+13462487799\,\,89561118750# US (Houston) \nDial by your location\n+1 253 215 8782 US (Tacoma)\n+1 346 248 7799 US (Houston)\n+1 669 900 9128 US (San Jose)\n+1 301 715 8592 US (Washington DC)\n+1 312 626 6799 US (Chicago)\n+1 646 558 8656 US (New York)\nMeeting ID: 895 6111 8750\nFind your local number: https://us02web.zoom.us/u/kgDr1yGWt \n 
URL:https://naacpdenver.org/event/monthly-membership-meeting-2024-04-25/
END:VEVENT
BEGIN:VEVENT
DTSTART;TZID=UTC:20240413T110000
DTEND;TZID=UTC:20240413T123000
DTSTAMP:20260420T074349
CREATED:20240409T080448Z
LAST-MODIFIED:20240409T080448Z
UID:4134-1713006000-1713011400@naacpdenver.org
SUMMARY:April Community Meeting
DESCRIPTION:Join the NAACP Denver this Saturday\, April 13th\, 2024\, at 11:00 am for our Monthly Community Meeting where we will be discussing \n‘What to do when involved in a police encounter! ‘ \nThis month’s meeting will be virtual on Zoom. The Meeting ID is 863 8836 4334.  \nSee you on Saturday! 
URL:https://naacpdenver.org/event/april-community-meeting/
END:VEVENT
BEGIN:VEVENT
DTSTART;TZID=UTC:20240413T110000
DTEND;TZID=UTC:20240413T123000
DTSTAMP:20260420T074349
CREATED:20210614T030759Z
LAST-MODIFIED:20210614T030759Z
UID:3312-1713006000-1713011400@naacpdenver.org
SUMMARY:Monthly Community Meeting
DESCRIPTION:NAACP Denver Branch hosts monthly meetings open to the public.  These meetings will address topics that affect communities of color in the City of Denver\, the State of Colorado and the Nation. \nTopic: Monthly Community Meeting\nTime: This is a recurring meeting Meet anytime \nJoin Zoom Meeting\nhttps://us02web.zoom.us/j/87864344222 \nMeeting ID: 878 6434 4222\nOne tap mobile\n+13462487799\,\,87864344222# US (Houston)\n+16699009128\,\,87864344222# US (San Jose) \nDial by your location\n+1 346 248 7799 US (Houston)\n+1 669 900 9128 US (San Jose)\n+1 253 215 8782 US (Tacoma)\n+1 312 626 6799 US (Chicago)\n+1 646 558 8656 US (New York)\n+1 301 715 8592 US (Washington DC)\nMeeting ID: 878 6434 4222\nFind your local number: https://us02web.zoom.us/u/kdKbmJV2D \n 
URL:https://naacpdenver.org/event/monthly-community-meeting-2024-04-13/
END:VEVENT
BEGIN:VEVENT
DTSTART;TZID=UTC:20240409T180000
DTEND;TZID=UTC:20240409T190000
DTSTAMP:20260420T074349
CREATED:20210614T032227Z
LAST-MODIFIED:20210614T032227Z
UID:3311-1712685600-1712689200@naacpdenver.org
SUMMARY:Communications & Community Engagement Committee Meeting
DESCRIPTION:Join Zoom Meeting\nhttps://us02web.zoom.us/j/85918936616?pwd=YTNJemxiTmJMZjhaaElBZjdjN2FzZz09 \nMeeting ID: 859 1893 6616\n \nPasscode: Community
URL:https://naacpdenver.org/event/communications-press-and-publicity-committee-meeting-2024-04-09/
END:VEVENT
BEGIN:VEVENT
DTSTART;TZID=UTC:20240408T170000
DTEND;TZID=UTC:20240408T180000
DTSTAMP:20260420T074349
CREATED:20210614T032703Z
LAST-MODIFIED:20240206T214138Z
UID:3302-1712595600-1712599200@naacpdenver.org
SUMMARY:Education Committee
DESCRIPTION:2nd Monday of each month \nhttps://us02web.zoom.us/j/86038377903 \n 
URL:https://naacpdenver.org/event/education-committee-2024-04-08/
END:VEVENT
BEGIN:VEVENT
DTSTART;TZID=UTC:20240328T190000
DTEND;TZID=UTC:20240328T200000
DTSTAMP:20260420T074349
CREATED:20210614T025028Z
LAST-MODIFIED:20210614T025028Z
UID:3301-1711652400-1711656000@naacpdenver.org
SUMMARY:Monthly Membership Meeting
DESCRIPTION:The Monthly Membership Meeting for the Denver Branch of the NAACP will take place on the 4th Thursday of each month via zoom (Holidays Excluded) \nTopic: Monthly Membership Meeting\nTime: This is a recurring meeting Meet anytime \nJoin Zoom Meeting\nhttps://us02web.zoom.us/j/89561118750 \nMeeting ID: 895 6111 8750\nOne tap mobile\n+12532158782\,\,89561118750# US (Tacoma)\n+13462487799\,\,89561118750# US (Houston) \nDial by your location\n+1 253 215 8782 US (Tacoma)\n+1 346 248 7799 US (Houston)\n+1 669 900 9128 US (San Jose)\n+1 301 715 8592 US (Washington DC)\n+1 312 626 6799 US (Chicago)\n+1 646 558 8656 US (New York)\nMeeting ID: 895 6111 8750\nFind your local number: https://us02web.zoom.us/u/kgDr1yGWt \n 
URL:https://naacpdenver.org/event/monthly-membership-meeting-2024-03-28/
END:VEVENT
BEGIN:VEVENT
DTSTART;TZID=UTC:20240312T180000
DTEND;TZID=UTC:20240312T190000
DTSTAMP:20260420T074349
CREATED:20210614T032227Z
LAST-MODIFIED:20210614T032227Z
UID:3265-1710266400-1710270000@naacpdenver.org
SUMMARY:Communications & Community Engagement Committee Meeting
DESCRIPTION:Join Zoom Meeting\nhttps://us02web.zoom.us/j/85918936616?pwd=YTNJemxiTmJMZjhaaElBZjdjN2FzZz09 \nMeeting ID: 859 1893 6616\n \nPasscode: Community
URL:https://naacpdenver.org/event/communications-press-and-publicity-committee-meeting-2024-03-12/
END:VEVENT
BEGIN:VEVENT
DTSTART;TZID=UTC:20240311T170000
DTEND;TZID=UTC:20240311T180000
DTSTAMP:20260420T074349
CREATED:20210614T032703Z
LAST-MODIFIED:20240206T214137Z
UID:3264-1710176400-1710180000@naacpdenver.org
SUMMARY:Education Committee
DESCRIPTION:2nd Monday of each month \nhttps://us02web.zoom.us/j/86038377903 \n 
URL:https://naacpdenver.org/event/education-committee-2024-03-11/
END:VEVENT
BEGIN:VEVENT
DTSTART;TZID=UTC:20240309T110000
DTEND;TZID=UTC:20240309T123000
DTSTAMP:20260420T074349
CREATED:20210614T030759Z
LAST-MODIFIED:20210614T030759Z
UID:3263-1709982000-1709987400@naacpdenver.org
SUMMARY:Monthly Community Meeting
DESCRIPTION:NAACP Denver Branch hosts monthly meetings open to the public.  These meetings will address topics that affect communities of color in the City of Denver\, the State of Colorado and the Nation. \nTopic: Monthly Community Meeting\nTime: This is a recurring meeting Meet anytime \nJoin Zoom Meeting\nhttps://us02web.zoom.us/j/87864344222 \nMeeting ID: 878 6434 4222\nOne tap mobile\n+13462487799\,\,87864344222# US (Houston)\n+16699009128\,\,87864344222# US (San Jose) \nDial by your location\n+1 346 248 7799 US (Houston)\n+1 669 900 9128 US (San Jose)\n+1 253 215 8782 US (Tacoma)\n+1 312 626 6799 US (Chicago)\n+1 646 558 8656 US (New York)\n+1 301 715 8592 US (Washington DC)\nMeeting ID: 878 6434 4222\nFind your local number: https://us02web.zoom.us/u/kdKbmJV2D \n 
URL:https://naacpdenver.org/event/monthly-community-meeting-2024-03-09/
END:VEVENT
BEGIN:VEVENT
DTSTART;TZID=UTC:20240309T110000
DTEND;TZID=UTC:20240309T120000
DTSTAMP:20260420T074349
CREATED:20250124T100945Z
LAST-MODIFIED:20250124T100945Z
UID:4310-1709982000-1709985600@naacpdenver.org
SUMMARY:Monthly Community Meeting - Black Women's Mental Health
DESCRIPTION: 
URL:https://naacpdenver.org/event/monthly-community-meeting-black-womens-mental-health/
END:VEVENT
BEGIN:VEVENT
DTSTART;TZID=UTC:20240224T180000
DTEND;TZID=UTC:20240224T230000
DTSTAMP:20260420T074349
CREATED:20250124T100724Z
LAST-MODIFIED:20250124T100724Z
UID:4307-1708797600-1708815600@naacpdenver.org
SUMMARY:Denver NAACP Freedom Fund Gala
DESCRIPTION:  \nJoin us as we honor Black History Month and commemorate the 115th year of the NAACP’s relentless pursuit of social justice and equity. \nStep into the spotlight at the Denver NAACP Freedom Fund Gala\, where glamour meets purpose in an unforgettable night of celebration! \nDATE: Saturday\, February 24th 2023\nTIME: From 6pm\nLOCATION: HYATT Regency Denver \n650 15th St\, Denver\, CO 80202\, United States \nWant be part of the Freedom Fund Committee? Give us a call at 7202109889 x 108 and join our team of change-makers!
URL:https://naacpdenver.org/event/denver-naacp-freedom-fund-gala-2/
END:VEVENT
BEGIN:VEVENT
DTSTART;TZID=America/Denver:20240224T170000
DTEND;TZID=America/Denver:20240224T210000
DTSTAMP:20260420T074349
CREATED:20240117T153137Z
LAST-MODIFIED:20240206T215246Z
UID:3971-1708794000-1708808400@naacpdenver.org
SUMMARY:DENVER NAACP FREEDOM FUND GALA
DESCRIPTION:Join us as we honor Black History Month and commemorate the 115th year of the NAACP’s relentless pursuit of social justice and equity at the Denver NAACP Freedom Fund Gala.  \n                                                                         
URL:https://naacpdenver.org/event/denver-naacp-freedom-fund-gala/
END:VEVENT
BEGIN:VEVENT
DTSTART;TZID=UTC:20240222T190000
DTEND;TZID=UTC:20240222T200000
DTSTAMP:20260420T074349
CREATED:20210614T025028Z
LAST-MODIFIED:20210614T025028Z
UID:3224-1708628400-1708632000@naacpdenver.org
SUMMARY:Monthly Membership Meeting
DESCRIPTION:The Monthly Membership Meeting for the Denver Branch of the NAACP will take place on the 4th Thursday of each month via zoom (Holidays Excluded) \nTopic: Monthly Membership Meeting\nTime: This is a recurring meeting Meet anytime \nJoin Zoom Meeting\nhttps://us02web.zoom.us/j/89561118750 \nMeeting ID: 895 6111 8750\nOne tap mobile\n+12532158782\,\,89561118750# US (Tacoma)\n+13462487799\,\,89561118750# US (Houston) \nDial by your location\n+1 253 215 8782 US (Tacoma)\n+1 346 248 7799 US (Houston)\n+1 669 900 9128 US (San Jose)\n+1 301 715 8592 US (Washington DC)\n+1 312 626 6799 US (Chicago)\n+1 646 558 8656 US (New York)\nMeeting ID: 895 6111 8750\nFind your local number: https://us02web.zoom.us/u/kgDr1yGWt \n 
URL:https://naacpdenver.org/event/monthly-membership-meeting-2024-02-22/
END:VEVENT
BEGIN:VEVENT
DTSTART;TZID=UTC:20240213T180000
DTEND;TZID=UTC:20240213T190000
DTSTAMP:20260420T074349
CREATED:20210614T032227Z
LAST-MODIFIED:20210614T032227Z
UID:3223-1707847200-1707850800@naacpdenver.org
SUMMARY:Communications & Community Engagement Committee Meeting
DESCRIPTION:Join Zoom Meeting\nhttps://us02web.zoom.us/j/85918936616?pwd=YTNJemxiTmJMZjhaaElBZjdjN2FzZz09 \nMeeting ID: 859 1893 6616\n \nPasscode: Community
URL:https://naacpdenver.org/event/communications-press-and-publicity-committee-meeting-2024-02-13/
END:VEVENT
BEGIN:VEVENT
DTSTART;TZID=UTC:20240212T170000
DTEND;TZID=UTC:20240212T180000
DTSTAMP:20260420T074349
CREATED:20210614T032703Z
LAST-MODIFIED:20240206T214136Z
UID:3220-1707757200-1707760800@naacpdenver.org
SUMMARY:Education Committee
DESCRIPTION:2nd Monday of each month \nhttps://us02web.zoom.us/j/86038377903 \n 
URL:https://naacpdenver.org/event/education-committee-2024-02-12/
END:VEVENT
BEGIN:VEVENT
DTSTART;TZID=UTC:20240210T110000
DTEND;TZID=UTC:20240210T123000
DTSTAMP:20260420T074349
CREATED:20210614T030759Z
LAST-MODIFIED:20210614T030759Z
UID:3217-1707562800-1707568200@naacpdenver.org
SUMMARY:Monthly Community Meeting
DESCRIPTION:NAACP Denver Branch hosts monthly meetings open to the public.  These meetings will address topics that affect communities of color in the City of Denver\, the State of Colorado and the Nation. \nTopic: Monthly Community Meeting\nTime: This is a recurring meeting Meet anytime \nJoin Zoom Meeting\nhttps://us02web.zoom.us/j/87864344222 \nMeeting ID: 878 6434 4222\nOne tap mobile\n+13462487799\,\,87864344222# US (Houston)\n+16699009128\,\,87864344222# US (San Jose) \nDial by your location\n+1 346 248 7799 US (Houston)\n+1 669 900 9128 US (San Jose)\n+1 253 215 8782 US (Tacoma)\n+1 312 626 6799 US (Chicago)\n+1 646 558 8656 US (New York)\n+1 301 715 8592 US (Washington DC)\nMeeting ID: 878 6434 4222\nFind your local number: https://us02web.zoom.us/u/kdKbmJV2D \n 
URL:https://naacpdenver.org/event/monthly-community-meeting-2024-02-10/
END:VEVENT
BEGIN:VEVENT
DTSTART;TZID=UTC:20240125T190000
DTEND;TZID=UTC:20240125T200000
DTSTAMP:20260420T074349
CREATED:20210614T025028Z
LAST-MODIFIED:20210614T025028Z
UID:3214-1706209200-1706212800@naacpdenver.org
SUMMARY:Monthly Membership Meeting
DESCRIPTION:The Monthly Membership Meeting for the Denver Branch of the NAACP will take place on the 4th Thursday of each month via zoom (Holidays Excluded) \nTopic: Monthly Membership Meeting\nTime: This is a recurring meeting Meet anytime \nJoin Zoom Meeting\nhttps://us02web.zoom.us/j/89561118750 \nMeeting ID: 895 6111 8750\nOne tap mobile\n+12532158782\,\,89561118750# US (Tacoma)\n+13462487799\,\,89561118750# US (Houston) \nDial by your location\n+1 253 215 8782 US (Tacoma)\n+1 346 248 7799 US (Houston)\n+1 669 900 9128 US (San Jose)\n+1 301 715 8592 US (Washington DC)\n+1 312 626 6799 US (Chicago)\n+1 646 558 8656 US (New York)\nMeeting ID: 895 6111 8750\nFind your local number: https://us02web.zoom.us/u/kgDr1yGWt \n 
URL:https://naacpdenver.org/event/monthly-membership-meeting-2024-01-25/
END:VEVENT
END:VCALENDAR